BEGIN:VCALENDAR
VERSION:2.0
PRODID:-//de Oud Rotterdammer - ECPv6.15.20//NONSGML v1.0//EN
CALSCALE:GREGORIAN
METHOD:PUBLISH
X-WR-CALNAME:de Oud Rotterdammer
X-ORIGINAL-URL:https://www.deoudrotterdammer.nl
X-WR-CALDESC:Evenementen voor de Oud Rotterdammer
REFRESH-INTERVAL;VALUE=DURATION:PT1H
X-Robots-Tag:noindex
X-PUBLISHED-TTL:PT1H
BEGIN:VTIMEZONE
TZID:Europe/Amsterdam
BEGIN:DAYLIGHT
TZOFFSETFROM:+0100
TZOFFSETTO:+0200
TZNAME:CEST
DTSTART:20240331T010000
END:DAYLIGHT
BEGIN:STANDARD
TZOFFSETFROM:+0200
TZOFFSETTO:+0100
TZNAME:CET
DTSTART:20241027T010000
END:STANDARD
BEGIN:DAYLIGHT
TZOFFSETFROM:+0100
TZOFFSETTO:+0200
TZNAME:CEST
DTSTART:20250330T010000
END:DAYLIGHT
BEGIN:STANDARD
TZOFFSETFROM:+0200
TZOFFSETTO:+0100
TZNAME:CET
DTSTART:20251026T010000
END:STANDARD
BEGIN:DAYLIGHT
TZOFFSETFROM:+0100
TZOFFSETTO:+0200
TZNAME:CEST
DTSTART:20260329T010000
END:DAYLIGHT
BEGIN:STANDARD
TZOFFSETFROM:+0200
TZOFFSETTO:+0100
TZNAME:CET
DTSTART:20261025T010000
END:STANDARD
END:VTIMEZONE
BEGIN:VEVENT
DTSTART;TZID=Europe/Amsterdam:20250321T193000
DTEND;TZID=Europe/Amsterdam:20250321T223000
DTSTAMP:20260423T001345
CREATED:20250204T140004Z
LAST-MODIFIED:20250220T124351Z
UID:10004415-1742585400-1742596200@www.deoudrotterdammer.nl
SUMMARY:Passie en Pasen met Men of Hope
DESCRIPTION:Op vrijdag 21 maart 2025 om 20.00 uur geven Martin Zonnenberg en Martin Mans een concert met de zanggroepen Men of Hope en Kleinkoor Concertino in de Breepleinkerk in Rotterdam. \nMen of Hope bestaat uit vijfenwintig geoefende zangers met een breed repertoire. Het gemengde Kleinkoor Concertino bestaat uit circa dertig zangers en zangeressen die op hoog niveau zingen. De zanggroepen vullen elkaar aan maar versterken elkaar ook in de gezamenlijke nummers. Het repertoire van Men of Hope concentreert zich op Passie en Pasen. \nEnkele voorbeelden daarvan zijn: ‘De Kruisweg\, Het is volbracht en Eli\, Eli Lama Sabachthani. Deze liederen nemen de luisteraar mee in de lijdensweg en maken diepe indruk. Maar ook het lied Hoop! wordt vol overtuiging gezongen in een tijd waarin men behoefte heeft aan hoop. Concertino brengt naast geestelijke liederen klassieke werken ten gehore. \nDe dirigenten Martin Zonnenberg en Martin Mans begeleiden elkaars koren. Bovendien brengen ze elk een improvisatie ten gehore en spelen een vierhandig werk op het orgel of de piano. Het concert biedt de luisteraar een grote variatie aan zang\, solozang en instrumentale muziek. \nToegang bij reservering € 10\,=. \nPrijs aan de zaal € 12\,50. Reserveren kan op www.martinmans.nl/toegangskaarten of T. 06-25391903.
URL:https://www.deoudrotterdammer.nl/event/passie-en-pasen-met-men-of-hope-en-concertino/
LOCATION:breepleinkerk\, Van Malsenstraat 104\, Rotterdam\, 3074 PZ
ATTACH;FMTTYPE=image/jpeg:https://www.deoudrotterdammer.nl/wp-content/uploads/2025/02/Men-of-Hope-Breeplein-2-Arno-Lambregtse-scaled-e1738677575551.jpg
GEO:51.8907707;4.5129688
X-APPLE-STRUCTURED-LOCATION;VALUE=URI;X-ADDRESS=breepleinkerk Van Malsenstraat 104 Rotterdam 3074 PZ;X-APPLE-RADIUS=500;X-TITLE=Van Malsenstraat 104:geo:4.5129688,51.8907707
END:VEVENT
END:VCALENDAR