BEGIN:VCALENDAR
VERSION:2.0
PRODID:-//de Oud Rotterdammer - ECPv6.15.20//NONSGML v1.0//EN
CALSCALE:GREGORIAN
METHOD:PUBLISH
X-ORIGINAL-URL:https://www.deoudrotterdammer.nl
X-WR-CALDESC:Evenementen voor de Oud Rotterdammer
REFRESH-INTERVAL;VALUE=DURATION:PT1H
X-Robots-Tag:noindex
X-PUBLISHED-TTL:PT1H
BEGIN:VTIMEZONE
TZID:Europe/Amsterdam
BEGIN:DAYLIGHT
TZOFFSETFROM:+0100
TZOFFSETTO:+0200
TZNAME:CEST
DTSTART:20230326T010000
END:DAYLIGHT
BEGIN:STANDARD
TZOFFSETFROM:+0200
TZOFFSETTO:+0100
TZNAME:CET
DTSTART:20231029T010000
END:STANDARD
BEGIN:DAYLIGHT
TZOFFSETFROM:+0100
TZOFFSETTO:+0200
TZNAME:CEST
DTSTART:20240331T010000
END:DAYLIGHT
BEGIN:STANDARD
TZOFFSETFROM:+0200
TZOFFSETTO:+0100
TZNAME:CET
DTSTART:20241027T010000
END:STANDARD
BEGIN:DAYLIGHT
TZOFFSETFROM:+0100
TZOFFSETTO:+0200
TZNAME:CEST
DTSTART:20250330T010000
END:DAYLIGHT
BEGIN:STANDARD
TZOFFSETFROM:+0200
TZOFFSETTO:+0100
TZNAME:CET
DTSTART:20251026T010000
END:STANDARD
END:VTIMEZONE
BEGIN:VEVENT
DTSTART;TZID=Europe/Amsterdam:20241123T143000
DTEND;TZID=Europe/Amsterdam:20241123T173000
DTSTAMP:20260425T132337
CREATED:20241016T122706Z
LAST-MODIFIED:20241016T122747Z
UID:10003112-1732372200-1732383000@www.deoudrotterdammer.nl
SUMMARY:Hillegersbergse Herfstconcerten in Fonteinkerk in november 2024
DESCRIPTION:Dit jaar staan de uitvoeringen in het teken van zang en klassieke instrumentale muziek. Er bestaat gelukkig een heel breed spectrum aan vocale muziek en de muziek zelf beperkt zich natuurlijk niet alleen tot wat wij klassiek noemen. Maar dat is voor volgende jaren. \nOp zaterdagmiddag 23 november sopraan Waldin Roes en het Salonorkest Capelle in een lichtklassiek gevarieerd programma. \nFonteinkerk Adres: Terbregselaan 3\, 3055 TE Rotterdam \nDe toegang tot deze concerten is gratis. Na afloop van de concerten bent u onverplicht in de gelegenheid om met een kleine financiële bijdrage de Hillegersbergse Herfstconcerten te ondersteunen. \nDe concerten beginnen alle drie op zaterdagmiddag om 15.00uur in de kerkzaal met zijn uitstekende akoestiek. De kerkzaal is open om 14.30uur.
URL:https://www.deoudrotterdammer.nl/event/hillegersbergse-herfstconcerten-in-fonteinkerk-in-november-2024-3/
LOCATION:Fonteinkerk\, Terbregselaan 3\, Rotterdam\, Zuid-Holland\, 3055 TE\, Nederland
ATTACH;FMTTYPE=image/jpeg:https://www.deoudrotterdammer.nl/wp-content/uploads/2024/10/23-november-herfst.jpg
GEO:51.9600177;4.505186
X-APPLE-STRUCTURED-LOCATION;VALUE=URI;X-ADDRESS=Fonteinkerk Terbregselaan 3 Rotterdam Zuid-Holland 3055 TE Nederland;X-APPLE-RADIUS=500;X-TITLE=Terbregselaan 3:geo:4.505186,51.9600177
END:VEVENT
BEGIN:VEVENT
DTSTART;TZID=Europe/Amsterdam:20241116T143000
DTEND;TZID=Europe/Amsterdam:20241116T173000
DTSTAMP:20260425T132337
CREATED:20241016T122534Z
LAST-MODIFIED:20241016T122534Z
UID:10003111-1731767400-1731778200@www.deoudrotterdammer.nl
SUMMARY:Hillegersbergse Herfstconcerten in Fonteinkerk in november 2024.
DESCRIPTION:Dit jaar staan de uitvoeringen in het teken van zang en klassieke instrumentale muziek. Er bestaat gelukkig een heel breed spectrum aan vocale muziek en de muziek zelf beperkt zich natuurlijk niet alleen tot wat wij klassiek noemen. Maar dat is voor volgende jaren. \nOp zaterdagmiddag 16 november maken sopraan Yelena Guryeva en pianist Volkert Bakker hun opwachting met liederen op poëtische teksten en het Trio Esperanza( bajan\, balalaika en contrabasbalalaika)\, soms samen met de sopraan\, met o.a. volksmuziek. \nFonteinkerk Adres: Terbregselaan 3\, 3055 TE Rotterdam \nDe toegang tot deze concerten is gratis. Na afloop van de concerten bent u onverplicht in de gelegenheid om met een kleine financiële bijdrage de Hillegersbergse Herfstconcerten te ondersteunen. \nDe concerten beginnen alle drie op zaterdagmiddag om 15.00uur in de kerkzaal met zijn uitstekende akoestiek. De kerkzaal is open om 14.30uur. \nhttps://www.fonteinkerk.nl/agenda
URL:https://www.deoudrotterdammer.nl/event/hillegersbergse-herfstconcerten-in-fonteinkerk-in-november-2024-2/
LOCATION:Fonteinkerk\, Terbregselaan 3\, Rotterdam\, Zuid-Holland\, 3055 TE\, Nederland
ATTACH;FMTTYPE=image/jpeg:https://www.deoudrotterdammer.nl/wp-content/uploads/2024/10/9-november-Fonteinkerk.jpg
GEO:51.9600177;4.505186
X-APPLE-STRUCTURED-LOCATION;VALUE=URI;X-ADDRESS=Fonteinkerk Terbregselaan 3 Rotterdam Zuid-Holland 3055 TE Nederland;X-APPLE-RADIUS=500;X-TITLE=Terbregselaan 3:geo:4.505186,51.9600177
END:VEVENT
BEGIN:VEVENT
DTSTART;TZID=Europe/Amsterdam:20241109T143000
DTEND;TZID=Europe/Amsterdam:20241109T173000
DTSTAMP:20260425T132337
CREATED:20241016T122327Z
LAST-MODIFIED:20241016T122350Z
UID:10003110-1731162600-1731173400@www.deoudrotterdammer.nl
SUMMARY:Hillegersbergse Herfstconcerten in Fonteinkerk in november 2024.
DESCRIPTION:Dit jaar staan de uitvoeringen in het teken van zang en klassieke instrumentale muziek. Er bestaat gelukkig een heel breed spectrum aan vocale muziek en de muziek zelf beperkt zich natuurlijk niet alleen tot wat wij klassiek noemen. Maar dat is voor volgende jaren. \nIn het eerste concert op zaterdagmiddag 9 november treedt het Meidoorn Pianokwintet aan met als hoofdschotel het Forellenkwintet van Franz Schubert. \nFonteinkerk Adres: Terbregselaan 3\, 3055 TE Rotterdam \nDe toegang tot deze concerten is gratis. Na afloop van de concerten bent u onverplicht in de gelegenheid om met een kleine financiële bijdrage de Hillegersbergse Herfstconcerten te ondersteunen. \nDe concerten beginnen alle drie op zaterdagmiddag om 15.00uur in de kerkzaal met zijn uitstekende akoestiek. De kerkzaal is open om 14.30uur. \nhttps://www.fonteinkerk.nl/agenda
URL:https://www.deoudrotterdammer.nl/event/hillegersbergse-herfstconcerten-in-fonteinkerk-in-november-2024/
LOCATION:Fonteinkerk\, Terbregselaan 3\, Rotterdam\, Zuid-Holland\, 3055 TE\, Nederland
ATTACH;FMTTYPE=image/jpeg:https://www.deoudrotterdammer.nl/wp-content/uploads/2024/10/16-november-Fontein.jpg
GEO:51.9600177;4.505186
X-APPLE-STRUCTURED-LOCATION;VALUE=URI;X-ADDRESS=Fonteinkerk Terbregselaan 3 Rotterdam Zuid-Holland 3055 TE Nederland;X-APPLE-RADIUS=500;X-TITLE=Terbregselaan 3:geo:4.505186,51.9600177
END:VEVENT
BEGIN:VEVENT
DTSTART;TZID=Europe/Amsterdam:20240607T193000
DTEND;TZID=Europe/Amsterdam:20240607T220000
DTSTAMP:20260425T132337
CREATED:20240515T124206Z
LAST-MODIFIED:20240515T124206Z
UID:10002870-1717788600-1717797600@www.deoudrotterdammer.nl
SUMMARY:Heilige Huisjes-Festival 2024
DESCRIPTION:De Fonteinkerk\, een heilig huisje. \nOok in dit jaar 2024 neemt de Fonteinkerk vol enthousiasme deel aan het Heilige Huisjes-Festival. Dit festival is een initiatief van de Kerkvernieuwers en de Gemeente Rotterdam beleeft nu de derde editie. In een uitgebreid publieksprogramma bieden gebedshuizen het publiek de gelegenheid om kennis te maken met het religieuze erfgoed\nHet festival is bedoeld om de drempel te verlagen voor inwoners van de stad om hun religieus erfgoed te (her)beleven\, en om beheerders van gebedshuizen te verenigen in duurzame netwerken die samen nieuwe doelgroepen kunnen aanspreken met innovatieve programmering. \nBovenal is Heilige Huisjes als festival bedoeld om samen met gemeenten\, hun inwoners en beheerders van religieus erfgoed een nieuw perspectief te verkennen op een moderne rol die gebedshuizen kunnen spelen op het gebied van cultuur\, spiritualiteit en maatschappelijke samenkomst. \nHet deelnemen past de Fonteinkerk als een handschoen.We willen een geloofsgemeenschap in Hillegersberg\, Nieuw-Terbregge\, 110-Morgen zijn\, waar jong en oud elkaar ontmoeten en zich thuis voelen en wij staan als Fonteinkerk met onze gelovige gemeenschap per definitie niet met onze rug naar de samenleving toegekeerd. \nDe Fonteinkerk is huis van God\, huis van de gemeente en huis van de wijk. Iedereen is welkom. We verlangen ernaar\, dat de Fonteinkerk dagelijks open is en een ontmoetingsplaats is voor mensen uit de wijk.\nVrijdag 7 juni biedt de kerk een concert aan van het Koninklijk Dordrechts Mannenkoor KNA onderde de bezielende leiding van dirigent Hans van der Toorn en met medewerking van de stralende alt Marie Anne Jacobs en de fijnzinnige pianiste Caecilia Boschman aan de vleugel. Het koor is blij op deze wijze in een zeer gevarieerd programma afscheid te kunnen nemen van zijn Rotterdamse publek.\nHet concert begint om 19.30 uur. En is uiteraard vrij toegankelijk. \nHet programma is een mix van liederen en aria’s\, passend in de geschiedenis van KNA. De opening is voor Britse liederen\, bewerkingen van oude volksmuziek van o.a. Benjamin Britten\, Ralph Vaughan Williams en Arthur Seymour Sullivan komen voorbij. Na de pauze is het tijd voor het klassieke repertoire. Koor en soliste Marie Anne Jacobs wisselen elkaar af en komen uiteindelijk samen in de Alt -Rhapsodie van Brahms en Ständchen van Schubert.
URL:https://www.deoudrotterdammer.nl/event/heilige-huisjes-festival-2024/
LOCATION:Fonteinkerk\, Terbregselaan 3\, Rotterdam\, Zuid-Holland\, 3055 TE\, Nederland
ATTACH;FMTTYPE=image/png:https://www.deoudrotterdammer.nl/wp-content/uploads/2024/05/Screenshot-2024-05-15-at-14.40.32.png
GEO:51.9600177;4.505186
X-APPLE-STRUCTURED-LOCATION;VALUE=URI;X-ADDRESS=Fonteinkerk Terbregselaan 3 Rotterdam Zuid-Holland 3055 TE Nederland;X-APPLE-RADIUS=500;X-TITLE=Terbregselaan 3:geo:4.505186,51.9600177
END:VEVENT
BEGIN:VEVENT
DTSTART;VALUE=DATE:20240526
DTEND;VALUE=DATE:20240527
DTSTAMP:20260425T132337
CREATED:20240525T101715Z
LAST-MODIFIED:20240525T101715Z
UID:10002871-1716681600-1716767999@www.deoudrotterdammer.nl
SUMMARY:Test met ticket
DESCRIPTION:tickets
URL:https://www.deoudrotterdammer.nl/event/test-met-ticket/
LOCATION:Fonteinkerk\, Terbregselaan 3\, Rotterdam\, Zuid-Holland\, 3055 TE\, Nederland
GEO:51.9600177;4.505186
X-APPLE-STRUCTURED-LOCATION;VALUE=URI;X-ADDRESS=Fonteinkerk Terbregselaan 3 Rotterdam Zuid-Holland 3055 TE Nederland;X-APPLE-RADIUS=500;X-TITLE=Terbregselaan 3:geo:4.505186,51.9600177
END:VEVENT
END:VCALENDAR