BEGIN:VCALENDAR
VERSION:2.0
PRODID:-//de Oud Rotterdammer - ECPv6.15.20//NONSGML v1.0//EN
CALSCALE:GREGORIAN
METHOD:PUBLISH
X-WR-CALNAME:de Oud Rotterdammer
X-ORIGINAL-URL:https://www.deoudrotterdammer.nl
X-WR-CALDESC:Evenementen voor de Oud Rotterdammer
REFRESH-INTERVAL;VALUE=DURATION:PT1H
X-Robots-Tag:noindex
X-PUBLISHED-TTL:PT1H
BEGIN:VTIMEZONE
TZID:Europe/Amsterdam
BEGIN:DAYLIGHT
TZOFFSETFROM:+0100
TZOFFSETTO:+0200
TZNAME:CEST
DTSTART:20230326T010000
END:DAYLIGHT
BEGIN:STANDARD
TZOFFSETFROM:+0200
TZOFFSETTO:+0100
TZNAME:CET
DTSTART:20231029T010000
END:STANDARD
BEGIN:DAYLIGHT
TZOFFSETFROM:+0100
TZOFFSETTO:+0200
TZNAME:CEST
DTSTART:20240331T010000
END:DAYLIGHT
BEGIN:STANDARD
TZOFFSETFROM:+0200
TZOFFSETTO:+0100
TZNAME:CET
DTSTART:20241027T010000
END:STANDARD
BEGIN:DAYLIGHT
TZOFFSETFROM:+0100
TZOFFSETTO:+0200
TZNAME:CEST
DTSTART:20250330T010000
END:DAYLIGHT
BEGIN:STANDARD
TZOFFSETFROM:+0200
TZOFFSETTO:+0100
TZNAME:CET
DTSTART:20251026T010000
END:STANDARD
END:VTIMEZONE
BEGIN:VEVENT
DTSTART;TZID=Europe/Amsterdam:20241231T130000
DTEND;TZID=Europe/Amsterdam:20241231T143000
DTSTAMP:20260423T151821
CREATED:20241122T145033Z
LAST-MODIFIED:20241122T145052Z
UID:10003207-1735650000-1735655400@www.deoudrotterdammer.nl
SUMMARY:Oliebollenrit Miniworld
DESCRIPTION:Sluit 2024 af met een uniek uitje in Rotterdam\, speciaal voor gezinnen en liefhebbers van cultuur en historie. Miniworld Rotterdam organiseert ook dit jaar weer de inmiddels traditionele Oliebollenritten\, een prachtige historische tramrit door het hart van de stad\, gecombineerd met een dag vol plezier in Miniworld Rotterdam.\nDit evenement is niet alleen een gezellig uitstapje\, maar biedt ook een veilige en leerzame omgeving voor jong en oud. Een superleuke manier om op z’n Rotterdams en met een vleugje nostalgie het oude jaar uit te gaan.Er zijn slechts 22 zitplaatsen per tramrit beschikbaar\, dus zorg dat je op tijd je plek reserveert. \n\nwww.miniworldrotterdam.com/oliebollenrit voor informatie\, Direct reserveren kan via https://miniworldshop.nl/product-categorie/oliebollenrit/\n\n\nLocatie Miniworld\nData en vertrektijden tram\n\nzaterdag 28-12-2024 om 13:00 & 15:00\nmaandag 30-12-2024 om 13:00 & 15:00\ndinsdag 31-12-2024 om 13:00 & 15:00
URL:https://www.deoudrotterdammer.nl/event/oliebollenrit-miniworld/2024-12-31/
LOCATION:Miniworld\, Weena 745\, Rotterdam\, Zuid-Holland\, 3013 AL\, Nederland
ATTACH;FMTTYPE=image/jpeg:https://www.deoudrotterdammer.nl/wp-content/uploads/2024/11/Oliebollenrit_01.jpg
GEO:51.9228516;4.4654938
X-APPLE-STRUCTURED-LOCATION;VALUE=URI;X-ADDRESS=Miniworld Weena 745 Rotterdam Zuid-Holland 3013 AL Nederland;X-APPLE-RADIUS=500;X-TITLE=Weena 745:geo:4.4654938,51.9228516
END:VEVENT
BEGIN:VEVENT
DTSTART;TZID=Europe/Amsterdam:20241230T150000
DTEND;TZID=Europe/Amsterdam:20241230T163000
DTSTAMP:20260423T151821
CREATED:20241122T145033Z
LAST-MODIFIED:20241122T145052Z
UID:10003206-1735570800-1735576200@www.deoudrotterdammer.nl
SUMMARY:Oliebollenrit Miniworld
DESCRIPTION:Sluit 2024 af met een uniek uitje in Rotterdam\, speciaal voor gezinnen en liefhebbers van cultuur en historie. Miniworld Rotterdam organiseert ook dit jaar weer de inmiddels traditionele Oliebollenritten\, een prachtige historische tramrit door het hart van de stad\, gecombineerd met een dag vol plezier in Miniworld Rotterdam.\nDit evenement is niet alleen een gezellig uitstapje\, maar biedt ook een veilige en leerzame omgeving voor jong en oud. Een superleuke manier om op z’n Rotterdams en met een vleugje nostalgie het oude jaar uit te gaan.Er zijn slechts 22 zitplaatsen per tramrit beschikbaar\, dus zorg dat je op tijd je plek reserveert. \n\nwww.miniworldrotterdam.com/oliebollenrit voor informatie\, Direct reserveren kan via https://miniworldshop.nl/product-categorie/oliebollenrit/\n\n\nLocatie Miniworld\nData en vertrektijden tram\n\nzaterdag 28-12-2024 om 13:00 & 15:00\nmaandag 30-12-2024 om 13:00 & 15:00\ndinsdag 31-12-2024 om 13:00 & 15:00
URL:https://www.deoudrotterdammer.nl/event/oliebollenrit-miniworld/2024-12-30/2/
LOCATION:Miniworld\, Weena 745\, Rotterdam\, Zuid-Holland\, 3013 AL\, Nederland
ATTACH;FMTTYPE=image/jpeg:https://www.deoudrotterdammer.nl/wp-content/uploads/2024/11/Oliebollenrit_01.jpg
GEO:51.9228516;4.4654938
X-APPLE-STRUCTURED-LOCATION;VALUE=URI;X-ADDRESS=Miniworld Weena 745 Rotterdam Zuid-Holland 3013 AL Nederland;X-APPLE-RADIUS=500;X-TITLE=Weena 745:geo:4.4654938,51.9228516
END:VEVENT
BEGIN:VEVENT
DTSTART;TZID=Europe/Amsterdam:20241230T130000
DTEND;TZID=Europe/Amsterdam:20241230T143000
DTSTAMP:20260423T151821
CREATED:20241122T145033Z
LAST-MODIFIED:20241122T145052Z
UID:10003205-1735563600-1735569000@www.deoudrotterdammer.nl
SUMMARY:Oliebollenrit Miniworld
DESCRIPTION:Sluit 2024 af met een uniek uitje in Rotterdam\, speciaal voor gezinnen en liefhebbers van cultuur en historie. Miniworld Rotterdam organiseert ook dit jaar weer de inmiddels traditionele Oliebollenritten\, een prachtige historische tramrit door het hart van de stad\, gecombineerd met een dag vol plezier in Miniworld Rotterdam.\nDit evenement is niet alleen een gezellig uitstapje\, maar biedt ook een veilige en leerzame omgeving voor jong en oud. Een superleuke manier om op z’n Rotterdams en met een vleugje nostalgie het oude jaar uit te gaan.Er zijn slechts 22 zitplaatsen per tramrit beschikbaar\, dus zorg dat je op tijd je plek reserveert. \n\nwww.miniworldrotterdam.com/oliebollenrit voor informatie\, Direct reserveren kan via https://miniworldshop.nl/product-categorie/oliebollenrit/\n\n\nLocatie Miniworld\nData en vertrektijden tram\n\nzaterdag 28-12-2024 om 13:00 & 15:00\nmaandag 30-12-2024 om 13:00 & 15:00\ndinsdag 31-12-2024 om 13:00 & 15:00
URL:https://www.deoudrotterdammer.nl/event/oliebollenrit-miniworld/2024-12-30/1/
LOCATION:Miniworld\, Weena 745\, Rotterdam\, Zuid-Holland\, 3013 AL\, Nederland
ATTACH;FMTTYPE=image/jpeg:https://www.deoudrotterdammer.nl/wp-content/uploads/2024/11/Oliebollenrit_01.jpg
GEO:51.9228516;4.4654938
X-APPLE-STRUCTURED-LOCATION;VALUE=URI;X-ADDRESS=Miniworld Weena 745 Rotterdam Zuid-Holland 3013 AL Nederland;X-APPLE-RADIUS=500;X-TITLE=Weena 745:geo:4.4654938,51.9228516
END:VEVENT
BEGIN:VEVENT
DTSTART;TZID=Europe/Amsterdam:20241228T150000
DTEND;TZID=Europe/Amsterdam:20241228T163000
DTSTAMP:20260423T151821
CREATED:20241122T145033Z
LAST-MODIFIED:20241122T145052Z
UID:10003204-1735398000-1735403400@www.deoudrotterdammer.nl
SUMMARY:Oliebollenrit Miniworld
DESCRIPTION:Sluit 2024 af met een uniek uitje in Rotterdam\, speciaal voor gezinnen en liefhebbers van cultuur en historie. Miniworld Rotterdam organiseert ook dit jaar weer de inmiddels traditionele Oliebollenritten\, een prachtige historische tramrit door het hart van de stad\, gecombineerd met een dag vol plezier in Miniworld Rotterdam.\nDit evenement is niet alleen een gezellig uitstapje\, maar biedt ook een veilige en leerzame omgeving voor jong en oud. Een superleuke manier om op z’n Rotterdams en met een vleugje nostalgie het oude jaar uit te gaan.Er zijn slechts 22 zitplaatsen per tramrit beschikbaar\, dus zorg dat je op tijd je plek reserveert. \n\nwww.miniworldrotterdam.com/oliebollenrit voor informatie\, Direct reserveren kan via https://miniworldshop.nl/product-categorie/oliebollenrit/\n\n\nLocatie Miniworld\nData en vertrektijden tram\n\nzaterdag 28-12-2024 om 13:00 & 15:00\nmaandag 30-12-2024 om 13:00 & 15:00\ndinsdag 31-12-2024 om 13:00 & 15:00
URL:https://www.deoudrotterdammer.nl/event/oliebollenrit-miniworld/2024-12-28/2/
LOCATION:Miniworld\, Weena 745\, Rotterdam\, Zuid-Holland\, 3013 AL\, Nederland
ATTACH;FMTTYPE=image/jpeg:https://www.deoudrotterdammer.nl/wp-content/uploads/2024/11/Oliebollenrit_01.jpg
GEO:51.9228516;4.4654938
X-APPLE-STRUCTURED-LOCATION;VALUE=URI;X-ADDRESS=Miniworld Weena 745 Rotterdam Zuid-Holland 3013 AL Nederland;X-APPLE-RADIUS=500;X-TITLE=Weena 745:geo:4.4654938,51.9228516
END:VEVENT
BEGIN:VEVENT
DTSTART;TZID=Europe/Amsterdam:20241228T130000
DTEND;TZID=Europe/Amsterdam:20241228T143000
DTSTAMP:20260423T151821
CREATED:20241122T145033Z
LAST-MODIFIED:20241122T145052Z
UID:10003203-1735390800-1735396200@www.deoudrotterdammer.nl
SUMMARY:Oliebollenrit Miniworld
DESCRIPTION:Sluit 2024 af met een uniek uitje in Rotterdam\, speciaal voor gezinnen en liefhebbers van cultuur en historie. Miniworld Rotterdam organiseert ook dit jaar weer de inmiddels traditionele Oliebollenritten\, een prachtige historische tramrit door het hart van de stad\, gecombineerd met een dag vol plezier in Miniworld Rotterdam.\nDit evenement is niet alleen een gezellig uitstapje\, maar biedt ook een veilige en leerzame omgeving voor jong en oud. Een superleuke manier om op z’n Rotterdams en met een vleugje nostalgie het oude jaar uit te gaan.Er zijn slechts 22 zitplaatsen per tramrit beschikbaar\, dus zorg dat je op tijd je plek reserveert. \n\nwww.miniworldrotterdam.com/oliebollenrit voor informatie\, Direct reserveren kan via https://miniworldshop.nl/product-categorie/oliebollenrit/\n\n\nLocatie Miniworld\nData en vertrektijden tram\n\nzaterdag 28-12-2024 om 13:00 & 15:00\nmaandag 30-12-2024 om 13:00 & 15:00\ndinsdag 31-12-2024 om 13:00 & 15:00
URL:https://www.deoudrotterdammer.nl/event/oliebollenrit-miniworld/2024-12-28/1/
LOCATION:Miniworld\, Weena 745\, Rotterdam\, Zuid-Holland\, 3013 AL\, Nederland
ATTACH;FMTTYPE=image/jpeg:https://www.deoudrotterdammer.nl/wp-content/uploads/2024/11/Oliebollenrit_01.jpg
GEO:51.9228516;4.4654938
X-APPLE-STRUCTURED-LOCATION;VALUE=URI;X-ADDRESS=Miniworld Weena 745 Rotterdam Zuid-Holland 3013 AL Nederland;X-APPLE-RADIUS=500;X-TITLE=Weena 745:geo:4.4654938,51.9228516
END:VEVENT
END:VCALENDAR