BEGIN:VCALENDAR
VERSION:2.0
PRODID:-//de Oud Rotterdammer - ECPv6.15.20//NONSGML v1.0//EN
CALSCALE:GREGORIAN
METHOD:PUBLISH
X-ORIGINAL-URL:https://www.deoudrotterdammer.nl
X-WR-CALDESC:Evenementen voor de Oud Rotterdammer
REFRESH-INTERVAL;VALUE=DURATION:PT1H
X-Robots-Tag:noindex
X-PUBLISHED-TTL:PT1H
BEGIN:VTIMEZONE
TZID:Europe/Amsterdam
BEGIN:DAYLIGHT
TZOFFSETFROM:+0100
TZOFFSETTO:+0200
TZNAME:CEST
DTSTART:20230326T010000
END:DAYLIGHT
BEGIN:STANDARD
TZOFFSETFROM:+0200
TZOFFSETTO:+0100
TZNAME:CET
DTSTART:20231029T010000
END:STANDARD
BEGIN:DAYLIGHT
TZOFFSETFROM:+0100
TZOFFSETTO:+0200
TZNAME:CEST
DTSTART:20240331T010000
END:DAYLIGHT
BEGIN:STANDARD
TZOFFSETFROM:+0200
TZOFFSETTO:+0100
TZNAME:CET
DTSTART:20241027T010000
END:STANDARD
BEGIN:DAYLIGHT
TZOFFSETFROM:+0100
TZOFFSETTO:+0200
TZNAME:CEST
DTSTART:20250330T010000
END:DAYLIGHT
BEGIN:STANDARD
TZOFFSETFROM:+0200
TZOFFSETTO:+0100
TZNAME:CET
DTSTART:20251026T010000
END:STANDARD
END:VTIMEZONE
BEGIN:VEVENT
DTSTART;TZID=Europe/Amsterdam:20240511T130000
DTEND;TZID=Europe/Amsterdam:20240511T153000
DTSTAMP:20260425T173042
CREATED:20240424T122621Z
LAST-MODIFIED:20240502T102512Z
UID:10002836-1715432400-1715441400@www.deoudrotterdammer.nl
SUMMARY:Herdenking bij Monument -De Traan - Short Stirling EF357
DESCRIPTION:In de nacht van 13 mei 1943 stortte een Short Stirling bommenwerper neer in Crooswijk. Alle zeven bemanningsleden kwamen daarbij om het leven. In 2018 is een gedenkteken onthuld. in aanwezigheid van nabestaanden. Op 11 mei 2024 is er een herdenkingsceremonie. \nProgramma: 11 mei 2024 \n13.00 uur: Inloop genodigden\, verzamelen bij; Bruinstroop Natuursteen; Nieuwe Crooswijkseweg 54.\n13.45 uur: Gezamenlijk lopen naar het Monument. Short Stirling EF 357\, “De Traan“.\n14.00 uur: Ceremoniemeester Adriaan van Ooijen\, heet U welkom\nnamens de werkgroep ; Oorlogsmonument’‘ DeTraan’’ Crooswijk\n14.15 uur: Bloemen en kranslegging.\n14.30 uur: Exhortation door Elsa van Gelderen\,\nRotterdam Committee Member\, oftewel bestuurslid voor Rotterdam.\n14.35 uur: The Last Post\, gevolgd door een minuut stilte.\n14.38 uur: Voorlezen van het gedicht dat de vader\,van Dennis Sach schreef\, ter\nnagedachtenis van zijn zoon\, daarna de Nederlandse vertaling van dit gedicht.\n14.40 uur: Gebed door Aalmoezenier Oscar Stok.\n14.45 uur: Volksliederen\, .\n15.00 uur: Defilé langs het monument en gelegenheid om Uw bloemen te leggen\n15.10 uur: Afsluiting en uitnodiging om even na te praten bij; Bruinstroop Natuursteen. \nNamens de werkgroep; Oorlogsmonument “de Traan“ Crooswijk. 11 mei 2024 \nCrash in Crooswijk-EF 357 \n \n 
URL:https://www.deoudrotterdammer.nl/event/herdenking-bij-monument-de-traan-short-stirling-ef357/
LOCATION:SHORT STIRLING MONUMENT “DE TRAAN” CROOSWIJK\, Nieuwe Crooswijkseweg\, Rotterdam\, Zuid Holland\, 3034 PL\, Nederland
ATTACH;FMTTYPE=image/jpeg:https://www.deoudrotterdammer.nl/wp-content/uploads/2024/04/399690746_2463666417149265_5649564682153672273_n-e1714033877711.jpg
GEO:51.934801;4.496983
X-APPLE-STRUCTURED-LOCATION;VALUE=URI;X-ADDRESS=SHORT STIRLING MONUMENT “DE TRAAN” CROOSWIJK Nieuwe Crooswijkseweg Rotterdam Zuid Holland 3034 PL Nederland;X-APPLE-RADIUS=500;X-TITLE=Nieuwe Crooswijkseweg:geo:4.496983,51.934801
END:VEVENT
END:VCALENDAR