BEGIN:VCALENDAR
VERSION:2.0
PRODID:-//de Oud Rotterdammer - ECPv6.15.20//NONSGML v1.0//EN
CALSCALE:GREGORIAN
METHOD:PUBLISH
X-ORIGINAL-URL:https://www.deoudrotterdammer.nl
X-WR-CALDESC:Evenementen voor de Oud Rotterdammer
REFRESH-INTERVAL;VALUE=DURATION:PT1H
X-Robots-Tag:noindex
X-PUBLISHED-TTL:PT1H
BEGIN:VTIMEZONE
TZID:Europe/Amsterdam
BEGIN:DAYLIGHT
TZOFFSETFROM:+0100
TZOFFSETTO:+0200
TZNAME:CEST
DTSTART:20230326T010000
END:DAYLIGHT
BEGIN:STANDARD
TZOFFSETFROM:+0200
TZOFFSETTO:+0100
TZNAME:CET
DTSTART:20231029T010000
END:STANDARD
BEGIN:DAYLIGHT
TZOFFSETFROM:+0100
TZOFFSETTO:+0200
TZNAME:CEST
DTSTART:20240331T010000
END:DAYLIGHT
BEGIN:STANDARD
TZOFFSETFROM:+0200
TZOFFSETTO:+0100
TZNAME:CET
DTSTART:20241027T010000
END:STANDARD
BEGIN:DAYLIGHT
TZOFFSETFROM:+0100
TZOFFSETTO:+0200
TZNAME:CEST
DTSTART:20250330T010000
END:DAYLIGHT
BEGIN:STANDARD
TZOFFSETFROM:+0200
TZOFFSETTO:+0100
TZNAME:CET
DTSTART:20251026T010000
END:STANDARD
BEGIN:DAYLIGHT
TZOFFSETFROM:+0100
TZOFFSETTO:+0200
TZNAME:CEST
DTSTART:20260329T010000
END:DAYLIGHT
BEGIN:STANDARD
TZOFFSETFROM:+0200
TZOFFSETTO:+0100
TZNAME:CET
DTSTART:20261025T010000
END:STANDARD
END:VTIMEZONE
BEGIN:VEVENT
DTSTART;TZID=Europe/Amsterdam:20250406T110000
DTEND;TZID=Europe/Amsterdam:20250406T160000
DTSTAMP:20260421T073845
CREATED:20250305T085703Z
LAST-MODIFIED:20250305T085859Z
UID:10004448-1743937200-1743955200@www.deoudrotterdammer.nl
SUMMARY:“Snotterfestival”
DESCRIPTION:Dit korenfestival vindt plaats in partycentrum De Heerlijkheid \nHerikweg 5 te Hoogvliet\, van 11:00-16:00 uur. \nDe organisatie is in handen van koor Tranen met Tuiten. \nDit unieke festival is vooral gericht op senioren en het enige korenfestival voor deze doelgroep in Rotterdam\, Hoogvliet en wijde omgeving. De toegang is gratis. Er mag uit volle borst meegezongen worden en uiteraard is er ook gelegenheid om de stembanden te smeren. \nBezoekers kunnen genieten van vijf koren zoals Koor Nieuw-Zuid uit Rotterdam\, De Noordzangers uit Ridderkerk\, Hoopvol LOL uit Ijzendoorn\, Koor de Dukdalf uit Ridderkerk\, en natuurlijk Tranen met Tuiten uit Hoogvliet. Allemaal koren die hun sporen al verdiend hebben in smartlappen\, levensliederen en andere gezellige liedjes. \nDit evenement is mede mogelijk gemaakt door: Cultuur Concreet\, Gemeente Rotterdam\, Bevordering van Volkskracht\, Van leeuwen van Lignac\, Stichting De Groot Fonds\, Uitvaartzorg Hoogvliet en Partycentrum De Heerlijkheid Het koor Tranen met Tuiten wordt muzikaal ondersteund door: \nWij hopen dat u van deze dag zult gaan genieten en wensen u veel zangplezier. Informatie: www.tranen-met-tuiten-hoogvliet.nl.
URL:https://www.deoudrotterdammer.nl/event/snotterfestival/
LOCATION:Partycentrum De Heerlijkheid\, Herikweg 5\, Hoogvliet Rotterdam\, Zuid Holland\, 3193 KC\, Nederland
ATTACH;FMTTYPE=image/jpeg:https://www.deoudrotterdammer.nl/wp-content/uploads/2025/03/Met-Jan-e1741164802741.jpg
GEO:51.8710201;4.3420196
X-APPLE-STRUCTURED-LOCATION;VALUE=URI;X-ADDRESS=Partycentrum De Heerlijkheid Herikweg 5 Hoogvliet Rotterdam Zuid Holland 3193 KC Nederland;X-APPLE-RADIUS=500;X-TITLE=Herikweg 5:geo:4.3420196,51.8710201
END:VEVENT
BEGIN:VEVENT
DTSTART;TZID=Europe/Amsterdam:20240324T110000
DTEND;TZID=Europe/Amsterdam:20240324T180000
DTSTAMP:20260421T073845
CREATED:20240316T085432Z
LAST-MODIFIED:20240316T085432Z
UID:10000532-1711278000-1711303200@www.deoudrotterdammer.nl
SUMMARY:Hoogvliets ‘Snotterfestival’ van smartlappenkoor Tranen met Tuiten
DESCRIPTION:Het is weer zover\, het Hoogvliets Smartlappenkoor Tranen met Tuiten trakteert de bezoeker op alweer het zestiende Snotterfestival. Dit geheel gratis toegankelijke feest op zondag 24 maart 2024 duurt vanaf 11.00 uur en vindt plaats in Partycentrum De Heerlijkheid\, Herikweg 5 in Hoogvliet. Bezoekers kunnen genieten van maar liefst vijf koren zoals De Smarties uit Vlaardingen\, Koor Nieuw-Zuid uit Rotterdam\, Oude-Hollandse-Nieuwe uit Den Haag\, Koor Amor uit Den Bosch en natuurlijk Tranen met Tuiten uit Hoogvliet.
URL:https://www.deoudrotterdammer.nl/event/hoogvliets-snotterfestival-van-smartlappenkoor-tranen-met-tuiten/
LOCATION:Partycentrum De Heerlijkheid\, Herikweg 5\, Hoogvliet Rotterdam\, Zuid Holland\, 3193 KC\, Nederland
ATTACH;FMTTYPE=image/png:https://www.deoudrotterdammer.nl/wp-content/uploads/2024/03/Screenshot-2024-03-16-at-09.52.50.png
GEO:51.8710201;4.3420196
X-APPLE-STRUCTURED-LOCATION;VALUE=URI;X-ADDRESS=Partycentrum De Heerlijkheid Herikweg 5 Hoogvliet Rotterdam Zuid Holland 3193 KC Nederland;X-APPLE-RADIUS=500;X-TITLE=Herikweg 5:geo:4.3420196,51.8710201
END:VEVENT
END:VCALENDAR