BEGIN:VCALENDAR
VERSION:2.0
PRODID:-//de Oud Rotterdammer - ECPv6.15.20//NONSGML v1.0//EN
CALSCALE:GREGORIAN
METHOD:PUBLISH
X-ORIGINAL-URL:https://www.deoudrotterdammer.nl
X-WR-CALDESC:Evenementen voor de Oud Rotterdammer
REFRESH-INTERVAL;VALUE=DURATION:PT1H
X-Robots-Tag:noindex
X-PUBLISHED-TTL:PT1H
BEGIN:VTIMEZONE
TZID:Europe/Amsterdam
BEGIN:DAYLIGHT
TZOFFSETFROM:+0100
TZOFFSETTO:+0200
TZNAME:CEST
DTSTART:20240331T010000
END:DAYLIGHT
BEGIN:STANDARD
TZOFFSETFROM:+0200
TZOFFSETTO:+0100
TZNAME:CET
DTSTART:20241027T010000
END:STANDARD
BEGIN:DAYLIGHT
TZOFFSETFROM:+0100
TZOFFSETTO:+0200
TZNAME:CEST
DTSTART:20250330T010000
END:DAYLIGHT
BEGIN:STANDARD
TZOFFSETFROM:+0200
TZOFFSETTO:+0100
TZNAME:CET
DTSTART:20251026T010000
END:STANDARD
BEGIN:DAYLIGHT
TZOFFSETFROM:+0100
TZOFFSETTO:+0200
TZNAME:CEST
DTSTART:20260329T010000
END:DAYLIGHT
BEGIN:STANDARD
TZOFFSETFROM:+0200
TZOFFSETTO:+0100
TZNAME:CET
DTSTART:20261025T010000
END:STANDARD
END:VTIMEZONE
BEGIN:VEVENT
DTSTART;TZID=Europe/Amsterdam:20250731T091500
DTEND;TZID=Europe/Amsterdam:20250731T181500
DTSTAMP:20260421T052934
CREATED:20250501T101948Z
LAST-MODIFIED:20250501T102120Z
UID:10004832-1753953300-1753985700@www.deoudrotterdammer.nl
SUMMARY:Nostalgische dagtochten RTM 2025
DESCRIPTION:Dit seizoen organiseert v/h de Rotterdamsche Tramweg Maatschappij (RTM) weer de traditionele nostalgische dagtochten\, vanaf het Willemsplein in Rotterdam. De dagtochten zijn gepland op de donderdagen 3\, 10\, 17\, 24\,  31 juli\, en 14\, 21 en 28 augustus en nog een op zaterdag 30 augustus. Het programma beslaat een rondrit door Rotterdam met een Düwag-tram uit 1965 van onze collega-museumorganisatie ROVM. Vanaf Carnisselande (juli) en vanaf de Pelgrimstraat (Delfshaven\, augustus) naar het RTM-museum in Ouddorp. Daar is de ontvangst met een kop koffie met appelgebak\, waarna er ruimschoots de mogelijkheid is het museum te bezoeken. Om 12:30 uur wordt in de restauratie van het museum de lunch geserveerd. \nVanaf het RTM-museum vertrekt om 13:30 uur  de RTM-stoomtram naar Scharendijke. \nAansluitend is er vanaf Middelplaat-haven een rondvaart over het Grevelingenmeer met het historische (1959) veerschip MS Grevelingen. \nDe retourrit vanaf Middelplaat-haven naar het RTM-museum vindt plaats met een RTM-dieseltram. \nKortom een gevarieerd programma! \nVertrek Rotterdam Willemsplein: 09:15 uur; terugkomst Willemsplein plm. 18:15 uur. \nKosten alles inclusief: € 78\,45 per persoon. Reserveren: www.rtm-ouddorp.nl \nInformatie: 06-30903083.
URL:https://www.deoudrotterdammer.nl/event/nostalgische-dagtochten-rtm-2025/2025-07-31/
LOCATION:RTM Oud Dorp\, G.C. Schellingerweg 2\, Ouddorp
ATTACH;FMTTYPE=image/jpeg:https://www.deoudrotterdammer.nl/wp-content/uploads/2025/05/Port-Zelande-station-e1746094743461.jpg
GEO:51.7842196;3.8724357
X-APPLE-STRUCTURED-LOCATION;VALUE=URI;X-ADDRESS=RTM Oud Dorp G.C. Schellingerweg 2 Ouddorp;X-APPLE-RADIUS=500;X-TITLE=G.C. Schellingerweg 2:geo:3.8724357,51.7842196
END:VEVENT
BEGIN:VEVENT
DTSTART;TZID=Europe/Amsterdam:20250724T091500
DTEND;TZID=Europe/Amsterdam:20250724T181500
DTSTAMP:20260421T052934
CREATED:20250501T101948Z
LAST-MODIFIED:20250501T102120Z
UID:10004831-1753348500-1753380900@www.deoudrotterdammer.nl
SUMMARY:Nostalgische dagtochten RTM 2025
DESCRIPTION:Dit seizoen organiseert v/h de Rotterdamsche Tramweg Maatschappij (RTM) weer de traditionele nostalgische dagtochten\, vanaf het Willemsplein in Rotterdam. De dagtochten zijn gepland op de donderdagen 3\, 10\, 17\, 24\,  31 juli\, en 14\, 21 en 28 augustus en nog een op zaterdag 30 augustus. Het programma beslaat een rondrit door Rotterdam met een Düwag-tram uit 1965 van onze collega-museumorganisatie ROVM. Vanaf Carnisselande (juli) en vanaf de Pelgrimstraat (Delfshaven\, augustus) naar het RTM-museum in Ouddorp. Daar is de ontvangst met een kop koffie met appelgebak\, waarna er ruimschoots de mogelijkheid is het museum te bezoeken. Om 12:30 uur wordt in de restauratie van het museum de lunch geserveerd. \nVanaf het RTM-museum vertrekt om 13:30 uur  de RTM-stoomtram naar Scharendijke. \nAansluitend is er vanaf Middelplaat-haven een rondvaart over het Grevelingenmeer met het historische (1959) veerschip MS Grevelingen. \nDe retourrit vanaf Middelplaat-haven naar het RTM-museum vindt plaats met een RTM-dieseltram. \nKortom een gevarieerd programma! \nVertrek Rotterdam Willemsplein: 09:15 uur; terugkomst Willemsplein plm. 18:15 uur. \nKosten alles inclusief: € 78\,45 per persoon. Reserveren: www.rtm-ouddorp.nl \nInformatie: 06-30903083.
URL:https://www.deoudrotterdammer.nl/event/nostalgische-dagtochten-rtm-2025/2025-07-24/
LOCATION:RTM Oud Dorp\, G.C. Schellingerweg 2\, Ouddorp
ATTACH;FMTTYPE=image/jpeg:https://www.deoudrotterdammer.nl/wp-content/uploads/2025/05/Port-Zelande-station-e1746094743461.jpg
GEO:51.7842196;3.8724357
X-APPLE-STRUCTURED-LOCATION;VALUE=URI;X-ADDRESS=RTM Oud Dorp G.C. Schellingerweg 2 Ouddorp;X-APPLE-RADIUS=500;X-TITLE=G.C. Schellingerweg 2:geo:3.8724357,51.7842196
END:VEVENT
BEGIN:VEVENT
DTSTART;TZID=Europe/Amsterdam:20250717T091500
DTEND;TZID=Europe/Amsterdam:20250717T181500
DTSTAMP:20260421T052934
CREATED:20250501T101948Z
LAST-MODIFIED:20250501T102120Z
UID:10004830-1752743700-1752776100@www.deoudrotterdammer.nl
SUMMARY:Nostalgische dagtochten RTM 2025
DESCRIPTION:Dit seizoen organiseert v/h de Rotterdamsche Tramweg Maatschappij (RTM) weer de traditionele nostalgische dagtochten\, vanaf het Willemsplein in Rotterdam. De dagtochten zijn gepland op de donderdagen 3\, 10\, 17\, 24\,  31 juli\, en 14\, 21 en 28 augustus en nog een op zaterdag 30 augustus. Het programma beslaat een rondrit door Rotterdam met een Düwag-tram uit 1965 van onze collega-museumorganisatie ROVM. Vanaf Carnisselande (juli) en vanaf de Pelgrimstraat (Delfshaven\, augustus) naar het RTM-museum in Ouddorp. Daar is de ontvangst met een kop koffie met appelgebak\, waarna er ruimschoots de mogelijkheid is het museum te bezoeken. Om 12:30 uur wordt in de restauratie van het museum de lunch geserveerd. \nVanaf het RTM-museum vertrekt om 13:30 uur  de RTM-stoomtram naar Scharendijke. \nAansluitend is er vanaf Middelplaat-haven een rondvaart over het Grevelingenmeer met het historische (1959) veerschip MS Grevelingen. \nDe retourrit vanaf Middelplaat-haven naar het RTM-museum vindt plaats met een RTM-dieseltram. \nKortom een gevarieerd programma! \nVertrek Rotterdam Willemsplein: 09:15 uur; terugkomst Willemsplein plm. 18:15 uur. \nKosten alles inclusief: € 78\,45 per persoon. Reserveren: www.rtm-ouddorp.nl \nInformatie: 06-30903083.
URL:https://www.deoudrotterdammer.nl/event/nostalgische-dagtochten-rtm-2025/2025-07-17/
LOCATION:RTM Oud Dorp\, G.C. Schellingerweg 2\, Ouddorp
ATTACH;FMTTYPE=image/jpeg:https://www.deoudrotterdammer.nl/wp-content/uploads/2025/05/Port-Zelande-station-e1746094743461.jpg
GEO:51.7842196;3.8724357
X-APPLE-STRUCTURED-LOCATION;VALUE=URI;X-ADDRESS=RTM Oud Dorp G.C. Schellingerweg 2 Ouddorp;X-APPLE-RADIUS=500;X-TITLE=G.C. Schellingerweg 2:geo:3.8724357,51.7842196
END:VEVENT
BEGIN:VEVENT
DTSTART;TZID=Europe/Amsterdam:20250710T091500
DTEND;TZID=Europe/Amsterdam:20250710T181500
DTSTAMP:20260421T052934
CREATED:20250501T101948Z
LAST-MODIFIED:20250501T102120Z
UID:10004829-1752138900-1752171300@www.deoudrotterdammer.nl
SUMMARY:Nostalgische dagtochten RTM 2025
DESCRIPTION:Dit seizoen organiseert v/h de Rotterdamsche Tramweg Maatschappij (RTM) weer de traditionele nostalgische dagtochten\, vanaf het Willemsplein in Rotterdam. De dagtochten zijn gepland op de donderdagen 3\, 10\, 17\, 24\,  31 juli\, en 14\, 21 en 28 augustus en nog een op zaterdag 30 augustus. Het programma beslaat een rondrit door Rotterdam met een Düwag-tram uit 1965 van onze collega-museumorganisatie ROVM. Vanaf Carnisselande (juli) en vanaf de Pelgrimstraat (Delfshaven\, augustus) naar het RTM-museum in Ouddorp. Daar is de ontvangst met een kop koffie met appelgebak\, waarna er ruimschoots de mogelijkheid is het museum te bezoeken. Om 12:30 uur wordt in de restauratie van het museum de lunch geserveerd. \nVanaf het RTM-museum vertrekt om 13:30 uur  de RTM-stoomtram naar Scharendijke. \nAansluitend is er vanaf Middelplaat-haven een rondvaart over het Grevelingenmeer met het historische (1959) veerschip MS Grevelingen. \nDe retourrit vanaf Middelplaat-haven naar het RTM-museum vindt plaats met een RTM-dieseltram. \nKortom een gevarieerd programma! \nVertrek Rotterdam Willemsplein: 09:15 uur; terugkomst Willemsplein plm. 18:15 uur. \nKosten alles inclusief: € 78\,45 per persoon. Reserveren: www.rtm-ouddorp.nl \nInformatie: 06-30903083.
URL:https://www.deoudrotterdammer.nl/event/nostalgische-dagtochten-rtm-2025/2025-07-10/
LOCATION:RTM Oud Dorp\, G.C. Schellingerweg 2\, Ouddorp
ATTACH;FMTTYPE=image/jpeg:https://www.deoudrotterdammer.nl/wp-content/uploads/2025/05/Port-Zelande-station-e1746094743461.jpg
GEO:51.7842196;3.8724357
X-APPLE-STRUCTURED-LOCATION;VALUE=URI;X-ADDRESS=RTM Oud Dorp G.C. Schellingerweg 2 Ouddorp;X-APPLE-RADIUS=500;X-TITLE=G.C. Schellingerweg 2:geo:3.8724357,51.7842196
END:VEVENT
BEGIN:VEVENT
DTSTART;TZID=Europe/Amsterdam:20250703T091500
DTEND;TZID=Europe/Amsterdam:20250703T181500
DTSTAMP:20260421T052934
CREATED:20250501T101948Z
LAST-MODIFIED:20250501T102120Z
UID:10004828-1751534100-1751566500@www.deoudrotterdammer.nl
SUMMARY:Nostalgische dagtochten RTM 2025
DESCRIPTION:Dit seizoen organiseert v/h de Rotterdamsche Tramweg Maatschappij (RTM) weer de traditionele nostalgische dagtochten\, vanaf het Willemsplein in Rotterdam. De dagtochten zijn gepland op de donderdagen 3\, 10\, 17\, 24\,  31 juli\, en 14\, 21 en 28 augustus en nog een op zaterdag 30 augustus. Het programma beslaat een rondrit door Rotterdam met een Düwag-tram uit 1965 van onze collega-museumorganisatie ROVM. Vanaf Carnisselande (juli) en vanaf de Pelgrimstraat (Delfshaven\, augustus) naar het RTM-museum in Ouddorp. Daar is de ontvangst met een kop koffie met appelgebak\, waarna er ruimschoots de mogelijkheid is het museum te bezoeken. Om 12:30 uur wordt in de restauratie van het museum de lunch geserveerd. \nVanaf het RTM-museum vertrekt om 13:30 uur  de RTM-stoomtram naar Scharendijke. \nAansluitend is er vanaf Middelplaat-haven een rondvaart over het Grevelingenmeer met het historische (1959) veerschip MS Grevelingen. \nDe retourrit vanaf Middelplaat-haven naar het RTM-museum vindt plaats met een RTM-dieseltram. \nKortom een gevarieerd programma! \nVertrek Rotterdam Willemsplein: 09:15 uur; terugkomst Willemsplein plm. 18:15 uur. \nKosten alles inclusief: € 78\,45 per persoon. Reserveren: www.rtm-ouddorp.nl \nInformatie: 06-30903083.
URL:https://www.deoudrotterdammer.nl/event/nostalgische-dagtochten-rtm-2025/2025-07-03/
LOCATION:RTM Oud Dorp\, G.C. Schellingerweg 2\, Ouddorp
ATTACH;FMTTYPE=image/jpeg:https://www.deoudrotterdammer.nl/wp-content/uploads/2025/05/Port-Zelande-station-e1746094743461.jpg
GEO:51.7842196;3.8724357
X-APPLE-STRUCTURED-LOCATION;VALUE=URI;X-ADDRESS=RTM Oud Dorp G.C. Schellingerweg 2 Ouddorp;X-APPLE-RADIUS=500;X-TITLE=G.C. Schellingerweg 2:geo:3.8724357,51.7842196
END:VEVENT
END:VCALENDAR