BEGIN:VCALENDAR
VERSION:2.0
PRODID:-//de Oud Rotterdammer - ECPv6.15.20//NONSGML v1.0//EN
CALSCALE:GREGORIAN
METHOD:PUBLISH
X-WR-CALNAME:de Oud Rotterdammer
X-ORIGINAL-URL:https://www.deoudrotterdammer.nl
X-WR-CALDESC:Evenementen voor de Oud Rotterdammer
REFRESH-INTERVAL;VALUE=DURATION:PT1H
X-Robots-Tag:noindex
X-PUBLISHED-TTL:PT1H
BEGIN:VTIMEZONE
TZID:Europe/Amsterdam
BEGIN:DAYLIGHT
TZOFFSETFROM:+0100
TZOFFSETTO:+0200
TZNAME:CEST
DTSTART:20230326T010000
END:DAYLIGHT
BEGIN:STANDARD
TZOFFSETFROM:+0200
TZOFFSETTO:+0100
TZNAME:CET
DTSTART:20231029T010000
END:STANDARD
BEGIN:DAYLIGHT
TZOFFSETFROM:+0100
TZOFFSETTO:+0200
TZNAME:CEST
DTSTART:20240331T010000
END:DAYLIGHT
BEGIN:STANDARD
TZOFFSETFROM:+0200
TZOFFSETTO:+0100
TZNAME:CET
DTSTART:20241027T010000
END:STANDARD
BEGIN:DAYLIGHT
TZOFFSETFROM:+0100
TZOFFSETTO:+0200
TZNAME:CEST
DTSTART:20250330T010000
END:DAYLIGHT
BEGIN:STANDARD
TZOFFSETFROM:+0200
TZOFFSETTO:+0100
TZNAME:CET
DTSTART:20251026T010000
END:STANDARD
END:VTIMEZONE
BEGIN:VEVENT
DTSTART;TZID=Europe/Amsterdam:20240616T151500
DTEND;TZID=Europe/Amsterdam:20240616T180000
DTSTAMP:20260421T024002
CREATED:20240604T121325Z
LAST-MODIFIED:20240611T104333Z
UID:10002895-1718550900-1718560800@www.deoudrotterdammer.nl
SUMMARY:FONOS\, Jesu meine Freude
DESCRIPTION:FONOS\, een internationaal vocaal ensemble\, presenteert samen met organist Eric Koevoets op 16 juni om 15:15 uur in de Sint Lambertuskerk in Kralingen een programma rond Bach’s beroemde motet Jesu\, meine Freude dat beleefd kan worden als een reis van donker naar licht langs de mooiste bladzijden uit de Duitse barokmuziek. Andere componisten waarvan werk wordt uitgevoerd zijn Heinrich Schütz\, Johann Hermann Schein en Johann Christoph Bach. FONOS brengt zangers uit zeven verschillende landen samen en brengt frisse perspectieven op zowel vroege als hedendaagse vocale muziek. Onlangs waren zij te horen in Podium Klassiek met een schitterend werk ‘Factum est silentium’ van Peter Philips. \nVoorafgaand aan het concert wordt er om 14:30 uur in het parochiehuis een toelichting gegeven op het programma. Kaarten zijn vooraf te koop via www.venster-op-muziek-lambertus.com of aan de deur\, € 18 voor volwassenen\, € 10 voor studenten en < 16 jaar.
URL:https://www.deoudrotterdammer.nl/event/fonos-jesu-meine-freude/
LOCATION:Sint Lambertuskerk\, Oostzeedijk Beneden 3\, Rotterdam\, Zuid-Holland\, 3062 VJ\, Nederland
ATTACH;FMTTYPE=image/png:https://www.deoudrotterdammer.nl/wp-content/uploads/2024/06/Screenshot-2024-06-04-at-13.05.51.png
GEO:51.9200966;4.5135846
X-APPLE-STRUCTURED-LOCATION;VALUE=URI;X-ADDRESS=Sint Lambertuskerk Oostzeedijk Beneden 3 Rotterdam Zuid-Holland 3062 VJ Nederland;X-APPLE-RADIUS=500;X-TITLE=Oostzeedijk Beneden 3:geo:4.5135846,51.9200966
END:VEVENT
BEGIN:VEVENT
DTSTART;TZID=Europe/Amsterdam:20240611T200000
DTEND;TZID=Europe/Amsterdam:20240611T223000
DTSTAMP:20260421T024002
CREATED:20240528T110349Z
LAST-MODIFIED:20240528T112500Z
UID:10002892-1718136000-1718145000@www.deoudrotterdammer.nl
SUMMARY:Prayers and Biblesongs
DESCRIPTION:Prayers and Biblesongs door Peter van de Velde\, organist-titulair Kathedraal Antwerpen en Anastasiia Staroselska\, mezzo-sopraan (Oekraïne) \nHet bekende duo Peter van de Velde\, organist-titulair van de O.L.V. Kathedraal Antwerpen en Anastasiia Staroselska\, mezzo-sopraan uit Oekraïne geeft in heel Europa concerten en heeft een schitterende CD uitgegeven onder de titel ‘Prayers’. In het verlengde daarvan geven zij een concert met een wondermooi programma in de Sint Lambertuskerk\, dat perfect past bij de mystieke ruimte met haar prachtige akoestiek en poëtisch klinkend orgel. Peter en Anastasia\, met haar warme\, volle mezzo sopraangeluid\, brengen de “Bible Songs” van Stanford\, zes liederen rond vrijheid\, vertrouwen\, hoop\, vrede\, strijd en wijsheid. Wat past er beter bij deze tijd in een wereld van grote onrust? Daarnaast zijn er gezongen gebeden van diverse componisten\, zoals het bekende Pie Jesu van Duruflé\, te horen. Het concert in de Sint Lambertuskerk\, Oostzeedijk Beneden 1-3 in R’dam-Kralingen begint om 20:00 uur. Voorafgaand is er om 19:15 uur een toelichting op het programma in het parochiehuis.
URL:https://www.deoudrotterdammer.nl/event/prayers-and-biblesongs/
LOCATION:Sint Lambertuskerk\, Oostzeedijk Beneden 3\, Rotterdam\, Zuid-Holland\, 3062 VJ\, Nederland
ATTACH;FMTTYPE=image/png:https://www.deoudrotterdammer.nl/wp-content/uploads/2024/05/Screenshot-2024-05-28-at-13.01.21.png
GEO:51.9200966;4.5135846
X-APPLE-STRUCTURED-LOCATION;VALUE=URI;X-ADDRESS=Sint Lambertuskerk Oostzeedijk Beneden 3 Rotterdam Zuid-Holland 3062 VJ Nederland;X-APPLE-RADIUS=500;X-TITLE=Oostzeedijk Beneden 3:geo:4.5135846,51.9200966
END:VEVENT
BEGIN:VEVENT
DTSTART;TZID=Europe/Amsterdam:20240521T191500
DTEND;TZID=Europe/Amsterdam:20240521T220000
DTSTAMP:20260421T024002
CREATED:20240513T084326Z
LAST-MODIFIED:20240513T084326Z
UID:10002865-1716318900-1716328800@www.deoudrotterdammer.nl
SUMMARY:Concert ‘Van Bach tot B.A.C.H.’ in Lambertuskerk
DESCRIPTION:Organist Eric Koevoets speelt werken van drie grote Duitse meesters Bach\, Mendelssohn\, Reger en de ‘Praeludium und Fuge’ over B.A.C.H. van Liszt. St. Lambertuskerk\, Oostzeedijk Beneden 1-3 (hoek Ho  aan)\, Rotterdam-Kralingen. Toegang vrij\, collecte na a  oop (richtbedrag € 10\,– p.p.). (Zie ook elders op deze pagina’s) \nDe eigen organist-titulair van de Sint Lambertuskerk in Rotterdam\, Eric Koevoets\, opent deze Internationale Muziekzomer Lambertus spectaculair. Duitsland staat aan de wieg van componisten\, die ook de meest schitterende orgelmuziek hebben gecomponeerd. Een goede reden voor Eric Koevoets om een concert te wijden aan de werken van drie van de grootste Duitse componisten: Bach\, Mendelssohn en Reger. Daarnaast speelt hij van Liszt het werk\, dat deze aan zijn grote voorbeeld heeft opgedragen\, de beroemde ‘Praeludium und Fuge’ over B.A.C.H.! Dit recital wil je niet missen\, want Eric Koevoets\, die als versmolten lijkt met het poëtische Maarschalkerweerdorgel\, krijgt iedere toehoorder aan zijn voeten met zijn lyrische en verhalende spel. Het concert in de mystieke Sint Lambertuskerk begint om 20.00 uur. De toegang is gratis met een collecte na afloop (richtbedrag € 10\,– p.p.) Om 19.15 uur geeft Eric Koevoets zelf een toelichting op het programma.
URL:https://www.deoudrotterdammer.nl/event/concert-van-bach-tot-b-a-c-h-in-lambertuskerk/
LOCATION:Sint Lambertuskerk\, Oostzeedijk Beneden 3\, Rotterdam\, Zuid-Holland\, 3062 VJ\, Nederland
ATTACH;FMTTYPE=image/png:https://www.deoudrotterdammer.nl/wp-content/uploads/2024/05/Screenshot-2024-05-13-at-10.40.09.png
GEO:51.9200966;4.5135846
X-APPLE-STRUCTURED-LOCATION;VALUE=URI;X-ADDRESS=Sint Lambertuskerk Oostzeedijk Beneden 3 Rotterdam Zuid-Holland 3062 VJ Nederland;X-APPLE-RADIUS=500;X-TITLE=Oostzeedijk Beneden 3:geo:4.5135846,51.9200966
END:VEVENT
END:VCALENDAR