BEGIN:VCALENDAR
VERSION:2.0
PRODID:-//de Oud Rotterdammer - ECPv6.15.20//NONSGML v1.0//EN
CALSCALE:GREGORIAN
METHOD:PUBLISH
X-WR-CALNAME:de Oud Rotterdammer
X-ORIGINAL-URL:https://www.deoudrotterdammer.nl
X-WR-CALDESC:Evenementen voor de Oud Rotterdammer
REFRESH-INTERVAL;VALUE=DURATION:PT1H
X-Robots-Tag:noindex
X-PUBLISHED-TTL:PT1H
BEGIN:VTIMEZONE
TZID:Europe/Amsterdam
BEGIN:DAYLIGHT
TZOFFSETFROM:+0100
TZOFFSETTO:+0200
TZNAME:CEST
DTSTART:20230326T010000
END:DAYLIGHT
BEGIN:STANDARD
TZOFFSETFROM:+0200
TZOFFSETTO:+0100
TZNAME:CET
DTSTART:20231029T010000
END:STANDARD
BEGIN:DAYLIGHT
TZOFFSETFROM:+0100
TZOFFSETTO:+0200
TZNAME:CEST
DTSTART:20240331T010000
END:DAYLIGHT
BEGIN:STANDARD
TZOFFSETFROM:+0200
TZOFFSETTO:+0100
TZNAME:CET
DTSTART:20241027T010000
END:STANDARD
BEGIN:DAYLIGHT
TZOFFSETFROM:+0100
TZOFFSETTO:+0200
TZNAME:CEST
DTSTART:20250330T010000
END:DAYLIGHT
BEGIN:STANDARD
TZOFFSETFROM:+0200
TZOFFSETTO:+0100
TZNAME:CET
DTSTART:20251026T010000
END:STANDARD
BEGIN:DAYLIGHT
TZOFFSETFROM:+0100
TZOFFSETTO:+0200
TZNAME:CEST
DTSTART:20260329T010000
END:DAYLIGHT
BEGIN:STANDARD
TZOFFSETFROM:+0200
TZOFFSETTO:+0100
TZNAME:CET
DTSTART:20261025T010000
END:STANDARD
END:VTIMEZONE
BEGIN:VEVENT
DTSTART;TZID=Europe/Amsterdam:20250820T100000
DTEND;TZID=Europe/Amsterdam:20250820T183000
DTSTAMP:20260421T040209
CREATED:20250814T130047Z
LAST-MODIFIED:20250814T130047Z
UID:10004842-1755684000-1755714600@www.deoudrotterdammer.nl
SUMMARY:Spido neemt je mee naar Willemstad
DESCRIPTION:Spido neemt je mee naar Willemstad – tip van De Oud-Rotterdammer! \nWillemstad heeft een unieke zevenpuntige stervorm\, ontworpen als verdedigingswerk in de tijd van Prins Maurits. Van bovenaf ziet het er echt indrukwekkend uit! \nHeb jij dit vestingstadje al eens bezocht? Spido vaart er iedere zomer naartoe en op 20 augustus kun jij mee!De dag begint met koffie/thee en appeltaart\, gevolgd door een prachtige tocht door de Hollandse delta. Aangekomen in fotogeniek Willemstad kun je genieten van schattige straatjes\, gezellige terrassen en oude stadswallen met topuitzicht. \nLunchen doe je aan boord\, en op de terugweg verrast de chef je nog met iets lekkers. \nWil je Willemstad écht leren kennen? Sluit je dan aan bij de stadswandeling met een lokale gids. \nAlles tot in de puntjes geregeld door Koninklijke Spido.👉 https://www.spido.nl/cruises/dagtocht-willemstad
URL:https://www.deoudrotterdammer.nl/event/spido-neemt-je-mee-naar-willemstad/
LOCATION:Spido Vertrekpunt\, Willemsplein 85\, Rotterdam\, Zuid Holland\, 3016 DR\, Nederland
ATTACH;FMTTYPE=image/jpeg:https://www.deoudrotterdammer.nl/wp-content/uploads/2025/08/Spido-Willemstad.jpg
GEO:51.9106206;4.4824485
X-APPLE-STRUCTURED-LOCATION;VALUE=URI;X-ADDRESS=Spido Vertrekpunt Willemsplein 85 Rotterdam Zuid Holland 3016 DR Nederland;X-APPLE-RADIUS=500;X-TITLE=Willemsplein 85:geo:4.4824485,51.9106206
END:VEVENT
BEGIN:VEVENT
DTSTART;TZID=Europe/Amsterdam:20241210T133000
DTEND;TZID=Europe/Amsterdam:20241210T163000
DTSTAMP:20260421T040209
CREATED:20241030T142738Z
LAST-MODIFIED:20241030T142842Z
UID:10003122-1733837400-1733848200@www.deoudrotterdammer.nl
SUMMARY:Oud-Rotterdammer Koor Nieuw Zuid vaartocht met de Spido
DESCRIPTION:Beleef Rotterdam vanaf het water met een nostalgische twist! \nIn samenwerking met de Oud-Rotterdammer organiseren wij een aantal unieke vaartochten waarbij je kunt genieten van de iconische stadshorizon\, onder begeleiding van de sfeervolle liedjes van vroeger\, gezongen door gelegenheidskoor Koor Nieuw Zuid. Deze feestelijke vaartocht\, die in het teken staat van het 105-jarig bestaan van Koninklijke Spido\, brengt historie\, gezelligheid en muzikaal entertainment samen voor een onvergetelijke ervaring op de Maas. \nGenieten op de Maas met koffie/thee en een feestelijke petit four \nStap aan boord van de James Cook en laat je verwennen met koffie of thee met een heerlijke petit four. Terwijl Koor Nieuw Zuid de mooiste liederen ten gehore brengt\, vaar je door de prachtige havens van Rotterdam. \nProgramma \nVanaf 13:30 uur \nInscheping aan het Spido ponton op het Willemsplein in Rotterdam. \n14:00 uur \nWelkomstwoord door de kapitein\, aansluitend afvaart voor een havenrondvaart. \n14:00 – 16:30 uur \nVaartocht door de Rotterdamse havens. \nGenieten op de Maas met koffie of thee\, petit four en entertainment van Koor Nieuw Zuid. \n  \n16:30 uur \nTerugkomst\, aansluitend ontscheping. \nPrijs \nVolwassenen en kinderen – € 19\,95 p.p.
URL:https://www.deoudrotterdammer.nl/event/oud-rotterdammer-koor-nieuw-zuid-vaartocht-met-de-spido/2024-12-10/
LOCATION:Spido Vertrekpunt\, Willemsplein 85\, Rotterdam\, Zuid Holland\, 3016 DR\, Nederland
ATTACH;FMTTYPE=image/jpeg:https://www.deoudrotterdammer.nl/wp-content/uploads/2024/10/spido-koor.jpg
GEO:51.9106206;4.4824485
X-APPLE-STRUCTURED-LOCATION;VALUE=URI;X-ADDRESS=Spido Vertrekpunt Willemsplein 85 Rotterdam Zuid Holland 3016 DR Nederland;X-APPLE-RADIUS=500;X-TITLE=Willemsplein 85:geo:4.4824485,51.9106206
END:VEVENT
BEGIN:VEVENT
DTSTART;TZID=Europe/Amsterdam:20241112T133000
DTEND;TZID=Europe/Amsterdam:20241112T163000
DTSTAMP:20260421T040209
CREATED:20241030T142738Z
LAST-MODIFIED:20241030T142842Z
UID:10003121-1731418200-1731429000@www.deoudrotterdammer.nl
SUMMARY:Oud-Rotterdammer Koor Nieuw Zuid vaartocht met de Spido
DESCRIPTION:Beleef Rotterdam vanaf het water met een nostalgische twist! \nIn samenwerking met de Oud-Rotterdammer organiseren wij een aantal unieke vaartochten waarbij je kunt genieten van de iconische stadshorizon\, onder begeleiding van de sfeervolle liedjes van vroeger\, gezongen door gelegenheidskoor Koor Nieuw Zuid. Deze feestelijke vaartocht\, die in het teken staat van het 105-jarig bestaan van Koninklijke Spido\, brengt historie\, gezelligheid en muzikaal entertainment samen voor een onvergetelijke ervaring op de Maas. \nGenieten op de Maas met koffie/thee en een feestelijke petit four \nStap aan boord van de James Cook en laat je verwennen met koffie of thee met een heerlijke petit four. Terwijl Koor Nieuw Zuid de mooiste liederen ten gehore brengt\, vaar je door de prachtige havens van Rotterdam. \nProgramma \nVanaf 13:30 uur \nInscheping aan het Spido ponton op het Willemsplein in Rotterdam. \n14:00 uur \nWelkomstwoord door de kapitein\, aansluitend afvaart voor een havenrondvaart. \n14:00 – 16:30 uur \nVaartocht door de Rotterdamse havens. \nGenieten op de Maas met koffie of thee\, petit four en entertainment van Koor Nieuw Zuid. \n  \n16:30 uur \nTerugkomst\, aansluitend ontscheping. \nPrijs \nVolwassenen en kinderen – € 19\,95 p.p.
URL:https://www.deoudrotterdammer.nl/event/oud-rotterdammer-koor-nieuw-zuid-vaartocht-met-de-spido/2024-11-12/
LOCATION:Spido Vertrekpunt\, Willemsplein 85\, Rotterdam\, Zuid Holland\, 3016 DR\, Nederland
ATTACH;FMTTYPE=image/jpeg:https://www.deoudrotterdammer.nl/wp-content/uploads/2024/10/spido-koor.jpg
GEO:51.9106206;4.4824485
X-APPLE-STRUCTURED-LOCATION;VALUE=URI;X-ADDRESS=Spido Vertrekpunt Willemsplein 85 Rotterdam Zuid Holland 3016 DR Nederland;X-APPLE-RADIUS=500;X-TITLE=Willemsplein 85:geo:4.4824485,51.9106206
END:VEVENT
BEGIN:VEVENT
DTSTART;TZID=Europe/Amsterdam:20240413T133000
DTEND;TZID=Europe/Amsterdam:20240413T160000
DTSTAMP:20260421T040209
CREATED:20240327T151610Z
LAST-MODIFIED:20240327T151610Z
UID:10000799-1713015000-1713024000@www.deoudrotterdammer.nl
SUMMARY:Uitgebreide Havenrondvaart
DESCRIPTION:Wilt u een onvergetelijke indruk van de bedrijvige wereldhaven ervaren? Ga dan met Spido mee\, de uitgebreide rondvaart van 2\,5 uur is echt een aanrader.\nScheepswerven en reparatiebedrijven\, pijpenleggers\, roll-on-roll-off\, droogdokken en de efficiënte overslag van miljoenen containers: u kunt er na de indrukwekkende tocht door het Botlekgebied over meepraten. Bovendien heeft u vanaf het schip een prachtig uitzicht op de bijzondere skyline van Rotterdam. \n\n\nDe haven van Rotterdam\nDe haven van Rotterdam is een van de meest fotogenieke ter wereld. De enorme omvang\, de grote aantallen schepen en de indrukwekkende bedrijvigheid maken de haven tot een bijzondere plek. Ook de vooruitgang die de Rotterdamse haven de afgelopen decennia boekte\, maakt indruk.\nDe havens zijn dan ook ongelooflijk leuk en interessant voor een dagje uit. Maar Spido biedt u niet alleen de verrassende skyline van mega-schepen\, kranen en bruggen. \n\n\n\n\nBijzondere bouwwerken zoals de Erasmusbrug\, de Euromast\, de Rotterdam\, het nieuwe Lloydkwartier\, de molens van Schiedam en de gebouwen van Heijplaat tonen allemaal even spectaculair vanaf het water. Ook de grote kranen\, vrachtwagens\, treinen en containerterminals die 24 uur werken om de goederen af en aan te voeren\, maken indruk.\nKortom\, u krijgt tijdens de rondvaart een goed beeld van de havens en de stad. Zij vormen samen een belangrijke draaischijf van de wereldhandel. \n\n\nRondvaart door de Rotterdamse haven\nDe Spido-rondvaart door de havens van Rotterdam is een geweldig uitje. Vanaf ons schip ziet u meer van de stad en de haven dan u wellicht voor mogelijk houdt. U krijgt de kans om de haven vanuit een ander perspectief te bewonderen en te genieten van de indrukwekkende verhalen van onze gids.\nTijdens de vaartocht krijgt u het gevoel alsof u in een andere wereld verblijft. Wilt u deze unieke ervaring beleven? Breng dan een bezoek aan de havens van Rotterdam! \n\n\nEen rondvaart voor jong en oud\nDe Spido-havenrondvaart door Rotterdam is geschikt voor iedereen. Deze vaart biedt een leuke\, veilige en informatieve manier om de Rotterdamse haven en de grootse omgeving te verkennen. De rondvaart biedt een schitterend uitzicht op al dat moois. Onze gids geeft ondertussen informatie over de geschiedenis en de bezienswaardigheden van de stad en de havens.\nDe 2\,5 uur durende cruise is een leuke manier voor jong en oud om een inspirerende tocht te maken door de havens van Rotterdam. \n\nVaarschema\n\nMaart 2024\nZaterdag 30 maart 10:30 & 13:30 uur \nApril 2024\nZaterdag 13 april 10:30 & 13:30 uur \n\nReserveren kan hier.
URL:https://www.deoudrotterdammer.nl/event/uitgebreide-havenrondvaart-4/
LOCATION:Spido Vertrekpunt\, Willemsplein 85\, Rotterdam\, Zuid Holland\, 3016 DR\, Nederland
ATTACH;FMTTYPE=image/png:https://www.deoudrotterdammer.nl/wp-content/uploads/2024/03/Screenshot-2024-03-27-at-16.13.32.png
GEO:51.9106206;4.4824485
X-APPLE-STRUCTURED-LOCATION;VALUE=URI;X-ADDRESS=Spido Vertrekpunt Willemsplein 85 Rotterdam Zuid Holland 3016 DR Nederland;X-APPLE-RADIUS=500;X-TITLE=Willemsplein 85:geo:4.4824485,51.9106206
END:VEVENT
BEGIN:VEVENT
DTSTART;TZID=Europe/Amsterdam:20240413T103000
DTEND;TZID=Europe/Amsterdam:20240413T130000
DTSTAMP:20260421T040209
CREATED:20240327T151546Z
LAST-MODIFIED:20240327T151546Z
UID:10000798-1713004200-1713013200@www.deoudrotterdammer.nl
SUMMARY:Uitgebreide Havenrondvaart
DESCRIPTION:Wilt u een onvergetelijke indruk van de bedrijvige wereldhaven ervaren? Ga dan met Spido mee\, de uitgebreide rondvaart van 2\,5 uur is echt een aanrader.\nScheepswerven en reparatiebedrijven\, pijpenleggers\, roll-on-roll-off\, droogdokken en de efficiënte overslag van miljoenen containers: u kunt er na de indrukwekkende tocht door het Botlekgebied over meepraten. Bovendien heeft u vanaf het schip een prachtig uitzicht op de bijzondere skyline van Rotterdam. \n\n\nDe haven van Rotterdam\nDe haven van Rotterdam is een van de meest fotogenieke ter wereld. De enorme omvang\, de grote aantallen schepen en de indrukwekkende bedrijvigheid maken de haven tot een bijzondere plek. Ook de vooruitgang die de Rotterdamse haven de afgelopen decennia boekte\, maakt indruk.\nDe havens zijn dan ook ongelooflijk leuk en interessant voor een dagje uit. Maar Spido biedt u niet alleen de verrassende skyline van mega-schepen\, kranen en bruggen. \n\n\n\n\nBijzondere bouwwerken zoals de Erasmusbrug\, de Euromast\, de Rotterdam\, het nieuwe Lloydkwartier\, de molens van Schiedam en de gebouwen van Heijplaat tonen allemaal even spectaculair vanaf het water. Ook de grote kranen\, vrachtwagens\, treinen en containerterminals die 24 uur werken om de goederen af en aan te voeren\, maken indruk.\nKortom\, u krijgt tijdens de rondvaart een goed beeld van de havens en de stad. Zij vormen samen een belangrijke draaischijf van de wereldhandel. \n\n\nRondvaart door de Rotterdamse haven\nDe Spido-rondvaart door de havens van Rotterdam is een geweldig uitje. Vanaf ons schip ziet u meer van de stad en de haven dan u wellicht voor mogelijk houdt. U krijgt de kans om de haven vanuit een ander perspectief te bewonderen en te genieten van de indrukwekkende verhalen van onze gids.\nTijdens de vaartocht krijgt u het gevoel alsof u in een andere wereld verblijft. Wilt u deze unieke ervaring beleven? Breng dan een bezoek aan de havens van Rotterdam! \n\n\nEen rondvaart voor jong en oud\nDe Spido-havenrondvaart door Rotterdam is geschikt voor iedereen. Deze vaart biedt een leuke\, veilige en informatieve manier om de Rotterdamse haven en de grootse omgeving te verkennen. De rondvaart biedt een schitterend uitzicht op al dat moois. Onze gids geeft ondertussen informatie over de geschiedenis en de bezienswaardigheden van de stad en de havens.\nDe 2\,5 uur durende cruise is een leuke manier voor jong en oud om een inspirerende tocht te maken door de havens van Rotterdam. \n\nVaarschema\n\nMaart 2024\nZaterdag 30 maart 10:30 & 13:30 uur \nApril 2024\nZaterdag 13 april 10:30 & 13:30 uur \n\nReserveren kan hier.
URL:https://www.deoudrotterdammer.nl/event/uitgebreide-havenrondvaart-3/
LOCATION:Spido Vertrekpunt\, Willemsplein 85\, Rotterdam\, Zuid Holland\, 3016 DR\, Nederland
ATTACH;FMTTYPE=image/png:https://www.deoudrotterdammer.nl/wp-content/uploads/2024/03/Screenshot-2024-03-27-at-16.13.32.png
GEO:51.9106206;4.4824485
X-APPLE-STRUCTURED-LOCATION;VALUE=URI;X-ADDRESS=Spido Vertrekpunt Willemsplein 85 Rotterdam Zuid Holland 3016 DR Nederland;X-APPLE-RADIUS=500;X-TITLE=Willemsplein 85:geo:4.4824485,51.9106206
END:VEVENT
BEGIN:VEVENT
DTSTART;TZID=Europe/Amsterdam:20240330T133000
DTEND;TZID=Europe/Amsterdam:20240330T160000
DTSTAMP:20260421T040209
CREATED:20240327T151454Z
LAST-MODIFIED:20240327T151454Z
UID:10000797-1711805400-1711814400@www.deoudrotterdammer.nl
SUMMARY:Uitgebreide Havenrondvaart
DESCRIPTION:Wilt u een onvergetelijke indruk van de bedrijvige wereldhaven ervaren? Ga dan met Spido mee\, de uitgebreide rondvaart van 2\,5 uur is echt een aanrader.\nScheepswerven en reparatiebedrijven\, pijpenleggers\, roll-on-roll-off\, droogdokken en de efficiënte overslag van miljoenen containers: u kunt er na de indrukwekkende tocht door het Botlekgebied over meepraten. Bovendien heeft u vanaf het schip een prachtig uitzicht op de bijzondere skyline van Rotterdam. \n\n\nDe haven van Rotterdam\nDe haven van Rotterdam is een van de meest fotogenieke ter wereld. De enorme omvang\, de grote aantallen schepen en de indrukwekkende bedrijvigheid maken de haven tot een bijzondere plek. Ook de vooruitgang die de Rotterdamse haven de afgelopen decennia boekte\, maakt indruk.\nDe havens zijn dan ook ongelooflijk leuk en interessant voor een dagje uit. Maar Spido biedt u niet alleen de verrassende skyline van mega-schepen\, kranen en bruggen. \n\n\n\n\nBijzondere bouwwerken zoals de Erasmusbrug\, de Euromast\, de Rotterdam\, het nieuwe Lloydkwartier\, de molens van Schiedam en de gebouwen van Heijplaat tonen allemaal even spectaculair vanaf het water. Ook de grote kranen\, vrachtwagens\, treinen en containerterminals die 24 uur werken om de goederen af en aan te voeren\, maken indruk.\nKortom\, u krijgt tijdens de rondvaart een goed beeld van de havens en de stad. Zij vormen samen een belangrijke draaischijf van de wereldhandel. \n\n\nRondvaart door de Rotterdamse haven\nDe Spido-rondvaart door de havens van Rotterdam is een geweldig uitje. Vanaf ons schip ziet u meer van de stad en de haven dan u wellicht voor mogelijk houdt. U krijgt de kans om de haven vanuit een ander perspectief te bewonderen en te genieten van de indrukwekkende verhalen van onze gids.\nTijdens de vaartocht krijgt u het gevoel alsof u in een andere wereld verblijft. Wilt u deze unieke ervaring beleven? Breng dan een bezoek aan de havens van Rotterdam! \n\n\nEen rondvaart voor jong en oud\nDe Spido-havenrondvaart door Rotterdam is geschikt voor iedereen. Deze vaart biedt een leuke\, veilige en informatieve manier om de Rotterdamse haven en de grootse omgeving te verkennen. De rondvaart biedt een schitterend uitzicht op al dat moois. Onze gids geeft ondertussen informatie over de geschiedenis en de bezienswaardigheden van de stad en de havens.\nDe 2\,5 uur durende cruise is een leuke manier voor jong en oud om een inspirerende tocht te maken door de havens van Rotterdam. \n\nVaarschema\n\nMaart 2024\nZaterdag 30 maart 10:30 & 13:30 uur \nApril 2024\nZaterdag 13 april 10:30 & 13:30 uur \n\nReserveren kan hier.
URL:https://www.deoudrotterdammer.nl/event/uitgebreide-havenrondvaart-2/
LOCATION:Spido Vertrekpunt\, Willemsplein 85\, Rotterdam\, Zuid Holland\, 3016 DR\, Nederland
ATTACH;FMTTYPE=image/png:https://www.deoudrotterdammer.nl/wp-content/uploads/2024/03/Screenshot-2024-03-27-at-16.13.32.png
GEO:51.9106206;4.4824485
X-APPLE-STRUCTURED-LOCATION;VALUE=URI;X-ADDRESS=Spido Vertrekpunt Willemsplein 85 Rotterdam Zuid Holland 3016 DR Nederland;X-APPLE-RADIUS=500;X-TITLE=Willemsplein 85:geo:4.4824485,51.9106206
END:VEVENT
BEGIN:VEVENT
DTSTART;TZID=Europe/Amsterdam:20240330T103000
DTEND;TZID=Europe/Amsterdam:20240330T130000
DTSTAMP:20260421T040209
CREATED:20240327T150916Z
LAST-MODIFIED:20240327T151356Z
UID:10000796-1711794600-1711803600@www.deoudrotterdammer.nl
SUMMARY:Uitgebreide Havenrondvaart
DESCRIPTION:Wilt u een onvergetelijke indruk van de bedrijvige wereldhaven ervaren? Ga dan met Spido mee\, de uitgebreide rondvaart van 2\,5 uur is echt een aanrader.\nScheepswerven en reparatiebedrijven\, pijpenleggers\, roll-on-roll-off\, droogdokken en de efficiënte overslag van miljoenen containers: u kunt er na de indrukwekkende tocht door het Botlekgebied over meepraten. Bovendien heeft u vanaf het schip een prachtig uitzicht op de bijzondere skyline van Rotterdam. \n\n\nDe haven van Rotterdam\nDe haven van Rotterdam is een van de meest fotogenieke ter wereld. De enorme omvang\, de grote aantallen schepen en de indrukwekkende bedrijvigheid maken de haven tot een bijzondere plek. Ook de vooruitgang die de Rotterdamse haven de afgelopen decennia boekte\, maakt indruk.\nDe havens zijn dan ook ongelooflijk leuk en interessant voor een dagje uit. Maar Spido biedt u niet alleen de verrassende skyline van mega-schepen\, kranen en bruggen. \n\n\n\n\nBijzondere bouwwerken zoals de Erasmusbrug\, de Euromast\, de Rotterdam\, het nieuwe Lloydkwartier\, de molens van Schiedam en de gebouwen van Heijplaat tonen allemaal even spectaculair vanaf het water. Ook de grote kranen\, vrachtwagens\, treinen en containerterminals die 24 uur werken om de goederen af en aan te voeren\, maken indruk.\nKortom\, u krijgt tijdens de rondvaart een goed beeld van de havens en de stad. Zij vormen samen een belangrijke draaischijf van de wereldhandel. \n\n\nRondvaart door de Rotterdamse haven\nDe Spido-rondvaart door de havens van Rotterdam is een geweldig uitje. Vanaf ons schip ziet u meer van de stad en de haven dan u wellicht voor mogelijk houdt. U krijgt de kans om de haven vanuit een ander perspectief te bewonderen en te genieten van de indrukwekkende verhalen van onze gids.\nTijdens de vaartocht krijgt u het gevoel alsof u in een andere wereld verblijft. Wilt u deze unieke ervaring beleven? Breng dan een bezoek aan de havens van Rotterdam! \n\n\nEen rondvaart voor jong en oud\nDe Spido-havenrondvaart door Rotterdam is geschikt voor iedereen. Deze vaart biedt een leuke\, veilige en informatieve manier om de Rotterdamse haven en de grootse omgeving te verkennen. De rondvaart biedt een schitterend uitzicht op al dat moois. Onze gids geeft ondertussen informatie over de geschiedenis en de bezienswaardigheden van de stad en de havens.\nDe 2\,5 uur durende cruise is een leuke manier voor jong en oud om een inspirerende tocht te maken door de havens van Rotterdam. \n\nVaarschema\n\nMaart 2024\nZaterdag 30 maart 10:30 & 13:30 uur \nApril 2024\nZaterdag 13 april 10:30 & 13:30 uur \n\nReserveren kan hier.
URL:https://www.deoudrotterdammer.nl/event/uitgebreide-havenrondvaart/
LOCATION:Spido Vertrekpunt\, Willemsplein 85\, Rotterdam\, Zuid Holland\, 3016 DR\, Nederland
ATTACH;FMTTYPE=image/png:https://www.deoudrotterdammer.nl/wp-content/uploads/2024/03/Screenshot-2024-03-27-at-16.13.32.png
GEO:51.9106206;4.4824485
X-APPLE-STRUCTURED-LOCATION;VALUE=URI;X-ADDRESS=Spido Vertrekpunt Willemsplein 85 Rotterdam Zuid Holland 3016 DR Nederland;X-APPLE-RADIUS=500;X-TITLE=Willemsplein 85:geo:4.4824485,51.9106206
END:VEVENT
END:VCALENDAR