BEGIN:VCALENDAR
VERSION:2.0
PRODID:-//de Oud Rotterdammer - ECPv6.15.20//NONSGML v1.0//EN
CALSCALE:GREGORIAN
METHOD:PUBLISH
X-WR-CALNAME:de Oud Rotterdammer
X-ORIGINAL-URL:https://www.deoudrotterdammer.nl
X-WR-CALDESC:Evenementen voor de Oud Rotterdammer
REFRESH-INTERVAL;VALUE=DURATION:PT1H
X-Robots-Tag:noindex
X-PUBLISHED-TTL:PT1H
BEGIN:VTIMEZONE
TZID:Europe/Amsterdam
BEGIN:DAYLIGHT
TZOFFSETFROM:+0100
TZOFFSETTO:+0200
TZNAME:CEST
DTSTART:20230326T010000
END:DAYLIGHT
BEGIN:STANDARD
TZOFFSETFROM:+0200
TZOFFSETTO:+0100
TZNAME:CET
DTSTART:20231029T010000
END:STANDARD
BEGIN:DAYLIGHT
TZOFFSETFROM:+0100
TZOFFSETTO:+0200
TZNAME:CEST
DTSTART:20240331T010000
END:DAYLIGHT
BEGIN:STANDARD
TZOFFSETFROM:+0200
TZOFFSETTO:+0100
TZNAME:CET
DTSTART:20241027T010000
END:STANDARD
BEGIN:DAYLIGHT
TZOFFSETFROM:+0100
TZOFFSETTO:+0200
TZNAME:CEST
DTSTART:20250330T010000
END:DAYLIGHT
BEGIN:STANDARD
TZOFFSETFROM:+0200
TZOFFSETTO:+0100
TZNAME:CET
DTSTART:20251026T010000
END:STANDARD
BEGIN:DAYLIGHT
TZOFFSETFROM:+0100
TZOFFSETTO:+0200
TZNAME:CEST
DTSTART:20260329T010000
END:DAYLIGHT
BEGIN:STANDARD
TZOFFSETFROM:+0200
TZOFFSETTO:+0100
TZNAME:CET
DTSTART:20261025T010000
END:STANDARD
END:VTIMEZONE
BEGIN:VEVENT
DTSTART;TZID=Europe/Amsterdam:20251116T093000
DTEND;TZID=Europe/Amsterdam:20251116T170000
DTSTAMP:20260422T151509
CREATED:20251104T092121Z
LAST-MODIFIED:20251104T092229Z
UID:10008080-1763285400-1763312400@www.deoudrotterdammer.nl
SUMMARY:Gratis cruisedag van Holland America Line
DESCRIPTION:Nieuwsgierig naar cruisen\, maar nog nooit een cruise gemaakt?\nDan is dit uw kans om op een laagdrempelige manier kennis te maken met de wereld van cruisevakanties! Kom op 16 november naar de gratis cruisedag van Holland America Lineop het historische SS Rotterdam in Rotterdam. \nTijdens deze informatieve en inspirerende dag ontdekt u waarom een cruise een verrassend comfortabele en veelzijdige manier van reizen is. \n\nEen cruise biedt het comfort van een hotel\, gecombineerd met het gemak van vervoer. U hoeft maar één keer uw koffer uit te pakken en u ontdekt meerdere bestemmingen tijdens een reis.\nAan boord vindt u een ruime keuze aan restaurants\, van buffet tot à-la-carte\, of kiest u toch voor de inbegrepen roomservice?\nVan livemuziek en theater tot films\, lezingen en workshops – er is altijd iets te doen\, zowel overdag als ’s avonds\nGeniet van de spa\, zwembad\, fitnessruimte of rustige lounges. Een cruise is ook de ideale manier om echt tot rust te komen.\nVeel is inbegrepen in de prijs: accommodatie\, maaltijden\, entertainment en vervoer tussen de bestemmingen. Dat maakt het overzichtelijk en vaak voordeliger dan een losse rondreis.\n\nWat kunt u verwachten op deze cruisedag? \n\nToegankelijke presentaties speciaal voor mensen die nog nooit een cruise hebben gemaakt.\nUitleg over hoe een cruise werkt\, wat u kunt verwachten aan boord en informatie over de bestemmingen.\nPersoonlijk advies van cruise-experts die al uw vragen beantwoorden.\nEen speciale sessie over reizen naar Alaska en verre bestemmingen voor wie al wat meer wil ontdekken.\nIconisch sfeerproeven op het SS Rotterdam – een voormalig cruiseschip van Holland America Line\n\nOver Holland America Line\nMet meer dan 150 jaar ervaring is Holland America Line een vertrouwde naam in de cruisewereld. De rederij staat bekend om haar elegante schepen\, persoonlijke service en bijzondere routes over de hele wereld. Of u nu kiest voor een korte kennismakingscruise van 7 nachten met gemakkelijk vertrek vanuit Nederland of een avontuurlijke reis naar verre oorden – u bent in goede handen. 📅 Noteer 16 november in uw agenda en schrijf u snel in via beleefhal.nl. De toegang is gratis\, maar het aantal plaatsen is beperkt. Wij kijken ernaar uit u te verwelkomen en u te laten kennismaken met de wereld van het cruisen. Zien wij u daar?
URL:https://www.deoudrotterdammer.nl/event/gratis-cruisedag-van-holland-america-line/
LOCATION:SS Rotterdam\, 3e Katendrechtse Hoofd 25\, Rotterdam\, Zuid Holland\, 3072 AM\, Nederland
ATTACH;FMTTYPE=image/jpeg:https://www.deoudrotterdammer.nl/wp-content/uploads/2025/11/ssrotterdam.jpg
GEO:51.899265;4.471233
X-APPLE-STRUCTURED-LOCATION;VALUE=URI;X-ADDRESS=SS Rotterdam 3e Katendrechtse Hoofd 25 Rotterdam Zuid Holland 3072 AM Nederland;X-APPLE-RADIUS=500;X-TITLE=3e Katendrechtse Hoofd 25:geo:4.471233,51.899265
END:VEVENT
BEGIN:VEVENT
DTSTART;TZID=Europe/Amsterdam:20241103T100000
DTEND;TZID=Europe/Amsterdam:20241103T170000
DTSTAMP:20260422T151509
CREATED:20241016T123150Z
LAST-MODIFIED:20241016T123150Z
UID:10003113-1730628000-1730653200@www.deoudrotterdammer.nl
SUMMARY:Holland America Line Cruise dag
DESCRIPTION:Nog nooit een cruise gemaakt? \nSchrijf u nu in voor onze gratis Cruise dag op 3 november op het ss Rotterdam via: Beleefhal.nl
URL:https://www.deoudrotterdammer.nl/event/holland-america-line-cruise-dag/
LOCATION:SS Rotterdam\, 3e Katendrechtse Hoofd 25\, Rotterdam\, Zuid Holland\, 3072 AM\, Nederland
ATTACH;FMTTYPE=image/jpeg:https://www.deoudrotterdammer.nl/wp-content/uploads/2024/10/hal.jpg
GEO:51.899265;4.471233
X-APPLE-STRUCTURED-LOCATION;VALUE=URI;X-ADDRESS=SS Rotterdam 3e Katendrechtse Hoofd 25 Rotterdam Zuid Holland 3072 AM Nederland;X-APPLE-RADIUS=500;X-TITLE=3e Katendrechtse Hoofd 25:geo:4.471233,51.899265
END:VEVENT
BEGIN:VEVENT
DTSTART;TZID=Europe/Amsterdam:20240922T160000
DTEND;TZID=Europe/Amsterdam:20240922T200000
DTSTAMP:20260422T151509
CREATED:20240905T075549Z
LAST-MODIFIED:20240905T075745Z
UID:10002910-1727020800-1727035200@www.deoudrotterdammer.nl
SUMMARY:Dutch Swing College Band aan boord SS Rotterdam
DESCRIPTION:Zondagmiddag 22 september 2024 – Dutch Swing College Band aan boord SS Rotterdam \nDe succesvolle jazzmiddagen op het stoomschip Rotterdam zijn weer van start gegaan! Zondagmiddag 22 september om 16.00 uur kan er zoals altijd weer gedanst worden op de aanstekelijke muziek van de wereldberoemde Dutch Swing College Band. \nHet ss Rotterdam heeft een rijke jazzhistorie. Jazzgrootheden als Ella Fitzgerald\, Frank Sinatra en Count Basie hebben op het voormalige cruiseschip opgetreden. De Dutch Swing College Band zet deze traditie voort. Toegangskaarten zijn te bestellen via www.dsc.nl of de Nationale Theaterkassa www.ntk.nl 0900-9203. De vorige optredens waren in een mum van tijd uitverkocht\, dus wees er snel bij want: op=op!
URL:https://www.deoudrotterdammer.nl/event/dutch-swing-college-band-aan-boord-ss-rotterdam/
LOCATION:SS Rotterdam\, 3e Katendrechtse Hoofd 25\, Rotterdam\, Zuid Holland\, 3072 AM\, Nederland
ATTACH;FMTTYPE=image/jpeg:https://www.deoudrotterdammer.nl/wp-content/uploads/2024/09/dutch-swing-college.jpg
GEO:51.899265;4.471233
X-APPLE-STRUCTURED-LOCATION;VALUE=URI;X-ADDRESS=SS Rotterdam 3e Katendrechtse Hoofd 25 Rotterdam Zuid Holland 3072 AM Nederland;X-APPLE-RADIUS=500;X-TITLE=3e Katendrechtse Hoofd 25:geo:4.471233,51.899265
END:VEVENT
END:VCALENDAR