BEGIN:VCALENDAR
VERSION:2.0
PRODID:-//de Oud Rotterdammer - ECPv6.15.20//NONSGML v1.0//EN
CALSCALE:GREGORIAN
METHOD:PUBLISH
X-ORIGINAL-URL:https://www.deoudrotterdammer.nl
X-WR-CALDESC:Evenementen voor de Oud Rotterdammer
REFRESH-INTERVAL;VALUE=DURATION:PT1H
X-Robots-Tag:noindex
X-PUBLISHED-TTL:PT1H
BEGIN:VTIMEZONE
TZID:Europe/Amsterdam
BEGIN:DAYLIGHT
TZOFFSETFROM:+0100
TZOFFSETTO:+0200
TZNAME:CEST
DTSTART:20230326T010000
END:DAYLIGHT
BEGIN:STANDARD
TZOFFSETFROM:+0200
TZOFFSETTO:+0100
TZNAME:CET
DTSTART:20231029T010000
END:STANDARD
BEGIN:DAYLIGHT
TZOFFSETFROM:+0100
TZOFFSETTO:+0200
TZNAME:CEST
DTSTART:20240331T010000
END:DAYLIGHT
BEGIN:STANDARD
TZOFFSETFROM:+0200
TZOFFSETTO:+0100
TZNAME:CET
DTSTART:20241027T010000
END:STANDARD
BEGIN:DAYLIGHT
TZOFFSETFROM:+0100
TZOFFSETTO:+0200
TZNAME:CEST
DTSTART:20250330T010000
END:DAYLIGHT
BEGIN:STANDARD
TZOFFSETFROM:+0200
TZOFFSETTO:+0100
TZNAME:CET
DTSTART:20251026T010000
END:STANDARD
END:VTIMEZONE
BEGIN:VEVENT
DTSTART;VALUE=DATE:20240822
DTEND;VALUE=DATE:20240825
DTSTAMP:20260425T133739
CREATED:20240604T120702Z
LAST-MODIFIED:20240604T120702Z
UID:10002894-1724284800-1724543999@www.deoudrotterdammer.nl
SUMMARY:CULINESSE
DESCRIPTION:OVER CULINESSE \nCULINAIR EN MUZIKAAL GENIETEN \nDe twaalfde editie van het familiefestival aan de Zevenhuizerplas vindt plaats op donderdag 22\, vrijdag 23 en zaterdag 24 augustus. CuliNESSE is een driedaags festival met een bomvolle muzikale\, culinaire en culturele programmering. Laat je verwennen door restaurants uit de regio en geniet van de beste artiesten!
URL:https://www.deoudrotterdammer.nl/event/culinesse/
LOCATION:Strand Nesselande\, Siciliëboulevard 227\, Rotterdam\, 3059 XT\, Nederland
ATTACH;FMTTYPE=image/png:https://www.deoudrotterdammer.nl/wp-content/uploads/2024/06/Screenshot-2024-06-04-at-14.06.21.png
GEO:51.9823591;4.5808463
X-APPLE-STRUCTURED-LOCATION;VALUE=URI;X-ADDRESS=Strand Nesselande Siciliëboulevard 227 Rotterdam 3059 XT Nederland;X-APPLE-RADIUS=500;X-TITLE=Siciliëboulevard 227:geo:4.5808463,51.9823591
END:VEVENT
END:VCALENDAR