BEGIN:VCALENDAR
VERSION:2.0
PRODID:-//de Oud Rotterdammer - ECPv6.15.20//NONSGML v1.0//EN
CALSCALE:GREGORIAN
METHOD:PUBLISH
X-ORIGINAL-URL:https://www.deoudrotterdammer.nl
X-WR-CALDESC:Evenementen voor de Oud Rotterdammer
REFRESH-INTERVAL;VALUE=DURATION:PT1H
X-Robots-Tag:noindex
X-PUBLISHED-TTL:PT1H
BEGIN:VTIMEZONE
TZID:Europe/Amsterdam
BEGIN:DAYLIGHT
TZOFFSETFROM:+0100
TZOFFSETTO:+0200
TZNAME:CEST
DTSTART:20230326T010000
END:DAYLIGHT
BEGIN:STANDARD
TZOFFSETFROM:+0200
TZOFFSETTO:+0100
TZNAME:CET
DTSTART:20231029T010000
END:STANDARD
BEGIN:DAYLIGHT
TZOFFSETFROM:+0100
TZOFFSETTO:+0200
TZNAME:CEST
DTSTART:20240331T010000
END:DAYLIGHT
BEGIN:STANDARD
TZOFFSETFROM:+0200
TZOFFSETTO:+0100
TZNAME:CET
DTSTART:20241027T010000
END:STANDARD
BEGIN:DAYLIGHT
TZOFFSETFROM:+0100
TZOFFSETTO:+0200
TZNAME:CEST
DTSTART:20250330T010000
END:DAYLIGHT
BEGIN:STANDARD
TZOFFSETFROM:+0200
TZOFFSETTO:+0100
TZNAME:CET
DTSTART:20251026T010000
END:STANDARD
END:VTIMEZONE
BEGIN:VEVENT
DTSTART;TZID=Europe/Amsterdam:20240525T180000
DTEND;TZID=Europe/Amsterdam:20240525T210000
DTSTAMP:20260421T092918
CREATED:20240513T074754Z
LAST-MODIFIED:20240513T074754Z
UID:10002860-1716660000-1716670800@www.deoudrotterdammer.nl
SUMMARY:Buurtsoap ‘Chicken Haalbaal’ in Theater Zuidplein
DESCRIPTION:Chicken Haalhaal\, de vrolijkste buurtsoap die er is! Gevoed door verhalen uit de buurt. Maak kennis met Justiano en Eylem\, de eigenaars van het buurtrestaurant\, vaste klant Frida\, student Neeltje\, kok Fred\, en vele andere personages. Een echte soap met humor\, romantiek\, cliffhangers en aangevuld met bijdragen van lokale ondernemers en talent van Zuid! Vijf weken lang elke week een nieuwe aflevering die je op het puntje van je stoel laat zitten. \nCafé-restaurant Zed als decor\nOns eigen café-restaurant Zed wordt omgebouwd tot theaterdecor waarin Chicken Haalhaal wordt gespeeld. Na afloop kun je gezellig blijven zitten voor een speciaal diner geïnspireerd op een typische afhaalmaaltijd met een twist en een soepje vooraf voor slechts € 20\,- p.p. \nHet verhaal\nIn ‘We deliver!’ keren we terug naar het wereldrestaurant van Eylem en Justiano. Door de oplopende prijzen besluiten ze zich ook maar aan te melden als pakketpunt. Een neef van Justiano is daar wel héél enthousiast over\, en waarom krijgt tante Frida zo veel vreemde pakketjes? Ondertussen vindt Eylems vader dat ze nu echt maar eens een man moet kiezen. En hoe vergaat het de Oekraïense Tatjana? \nMet Aysegul Karaca\, Aldaïr Pieters\, Kees Scholten\, Sara van Nes\, Ezgi Köroğlu
URL:https://www.deoudrotterdammer.nl/event/buurtsoap-chicken-haalbaal-in-theater-zuidplein/2024-05-25/
LOCATION:Theater Zuidplein\, Gooilandsingel 95\, Rotterdam\, 3083 DP\, Nederland
ATTACH;FMTTYPE=image/png:https://www.deoudrotterdammer.nl/wp-content/uploads/2024/05/Screenshot-2024-05-13-at-09.46.45.png
GEO:51.8873675;4.4879322
X-APPLE-STRUCTURED-LOCATION;VALUE=URI;X-ADDRESS=Theater Zuidplein Gooilandsingel 95 Rotterdam 3083 DP Nederland;X-APPLE-RADIUS=500;X-TITLE=Gooilandsingel 95:geo:4.4879322,51.8873675
END:VEVENT
BEGIN:VEVENT
DTSTART;TZID=Europe/Amsterdam:20240522T193000
DTEND;TZID=Europe/Amsterdam:20240522T223000
DTSTAMP:20260421T092918
CREATED:20240513T084701Z
LAST-MODIFIED:20240513T084701Z
UID:10002866-1716406200-1716417000@www.deoudrotterdammer.nl
SUMMARY:Vincent Bijlo met ‘Laat dat nou maar aan mij over’ in Theater Zuidplein
DESCRIPTION:Cabaretier Vincent Bijlo schijnt zijn licht over het leven zodat jij opgeladen de zaal weer verlaat. Avondje luchtig lachen! \n\n\n\n\n\n\n\nZienden zijn maar rare\, zielige mensen volgens blinde cabaretier Vincent Bijlo. Daarom neemt hij je deze avond aan de hand. Laat dat nou maar aan mij over is een ear-opener\, die je laat horen dat de wereld zonder licht niet zwaar is en echte verlichting binnenin zit. Kom op! We hebben geen lachgas nodig om te lachen en geen rouge om er blozend uit te zien. Zin in zíjn\, daar gaat het om. Kijk in de spiegel met je ogen dicht en durf te varen op je innerlijke kompas.
URL:https://www.deoudrotterdammer.nl/event/vincent-bijlo-met-laat-dat-nou-maar-aan-mij-over-in-theater-zuidplein/
LOCATION:Theater Zuidplein\, Gooilandsingel 95\, Rotterdam\, 3083 DP\, Nederland
ATTACH;FMTTYPE=image/png:https://www.deoudrotterdammer.nl/wp-content/uploads/2024/05/Screenshot-2024-05-13-at-10.46.28.png
GEO:51.8873675;4.4879322
X-APPLE-STRUCTURED-LOCATION;VALUE=URI;X-ADDRESS=Theater Zuidplein Gooilandsingel 95 Rotterdam 3083 DP Nederland;X-APPLE-RADIUS=500;X-TITLE=Gooilandsingel 95:geo:4.4879322,51.8873675
END:VEVENT
BEGIN:VEVENT
DTSTART;TZID=Europe/Amsterdam:20240518T180000
DTEND;TZID=Europe/Amsterdam:20240518T210000
DTSTAMP:20260421T092918
CREATED:20240513T074754Z
LAST-MODIFIED:20240513T074754Z
UID:10002859-1716055200-1716066000@www.deoudrotterdammer.nl
SUMMARY:Buurtsoap ‘Chicken Haalbaal’ in Theater Zuidplein
DESCRIPTION:Chicken Haalhaal\, de vrolijkste buurtsoap die er is! Gevoed door verhalen uit de buurt. Maak kennis met Justiano en Eylem\, de eigenaars van het buurtrestaurant\, vaste klant Frida\, student Neeltje\, kok Fred\, en vele andere personages. Een echte soap met humor\, romantiek\, cliffhangers en aangevuld met bijdragen van lokale ondernemers en talent van Zuid! Vijf weken lang elke week een nieuwe aflevering die je op het puntje van je stoel laat zitten. \nCafé-restaurant Zed als decor\nOns eigen café-restaurant Zed wordt omgebouwd tot theaterdecor waarin Chicken Haalhaal wordt gespeeld. Na afloop kun je gezellig blijven zitten voor een speciaal diner geïnspireerd op een typische afhaalmaaltijd met een twist en een soepje vooraf voor slechts € 20\,- p.p. \nHet verhaal\nIn ‘We deliver!’ keren we terug naar het wereldrestaurant van Eylem en Justiano. Door de oplopende prijzen besluiten ze zich ook maar aan te melden als pakketpunt. Een neef van Justiano is daar wel héél enthousiast over\, en waarom krijgt tante Frida zo veel vreemde pakketjes? Ondertussen vindt Eylems vader dat ze nu echt maar eens een man moet kiezen. En hoe vergaat het de Oekraïense Tatjana? \nMet Aysegul Karaca\, Aldaïr Pieters\, Kees Scholten\, Sara van Nes\, Ezgi Köroğlu
URL:https://www.deoudrotterdammer.nl/event/buurtsoap-chicken-haalbaal-in-theater-zuidplein/2024-05-18/
LOCATION:Theater Zuidplein\, Gooilandsingel 95\, Rotterdam\, 3083 DP\, Nederland
ATTACH;FMTTYPE=image/png:https://www.deoudrotterdammer.nl/wp-content/uploads/2024/05/Screenshot-2024-05-13-at-09.46.45.png
GEO:51.8873675;4.4879322
X-APPLE-STRUCTURED-LOCATION;VALUE=URI;X-ADDRESS=Theater Zuidplein Gooilandsingel 95 Rotterdam 3083 DP Nederland;X-APPLE-RADIUS=500;X-TITLE=Gooilandsingel 95:geo:4.4879322,51.8873675
END:VEVENT
BEGIN:VEVENT
DTSTART;TZID=Europe/Amsterdam:20240517T163000
DTEND;TZID=Europe/Amsterdam:20240517T210000
DTSTAMP:20260421T092918
CREATED:20240513T083155Z
LAST-MODIFIED:20240513T083229Z
UID:10002864-1715963400-1715979600@www.deoudrotterdammer.nl
SUMMARY:Stamboomonderzoek en geschiedenis van Nederlands-Indië
DESCRIPTION:‘Indo Zijn Kumpulan III’ is een avond Een avond vol verbinding\, muziek en lekker eten in Zaal-Z van Theater Zuidplein. Duik dieper in stamboomonderzoeken en de geschiedenis van Nederlands-Indië. Aanvang: 17.00 uur. www.theaterzuidplein.nl De kassa is van dinsdag tot en met vrijdag van 14.00 tot 17.00 uur telefonisch bereikbaar Tel. 010-2030203. \n\nHélène Oppatja\nHélène is de directeur van het CBG|centrum voor familiegeschiedenis en vicevoorzitter van de Nationale Herdenking op 15 augustus 1945. Haar interesse in de geschiedenis van voormalig Nederlands Indië komt voort uit haar eigen achtergrond. Haar moeder is geboren in Vlaardingen en haar vader in Soerabaja.\nReinier Kraft van Ermel\nReinier is bekend van Tracing Your Roots en Jong 1508. Hij beschouwt zichzelf als Indisch-Moluks en is gepassioneerd door de complexe geschiedenis van Nederland in Indonesië. Naast zijn werk als logistiek ingenieur helpt hij als co-host bij Tracing Your Roots anderen die hun roots in voormalig Nederlands-Indië\, de Molukken en Indonesië willen ontdekken. Reinier is ook mede-oprichter van De Indische Generatietafels en heeft meerdere rootsreizen gemaakt naar Java en Ambon\, waar hij in lokale archieven heeft gezocht naar zijn familiegeschiedenis. Hij deelt graag zijn bevindingen en persoonlijke verhaal tijdens zijn workshop stamboomonderzoek.\n\nProgramma\n16.30 uur: inloop\n17.00 uur: Hélène Oppatja\n17.45 uur: muzikaal intermezzo\n18.30 uur: Reinier Kraft van Ermel\n19.00 uur: eten \nMenu \n\nNasi gurih\, kruidige kokosrijst (vegan)\nTerong belado\, aubergine (vegan)\nDaging rendang\, rund (halal\nKrupuk kentang manis pedis\, aaardappel kroepoek (vegan)\nVerse sambal (vegan)\nBawang goreng\, gebakken uitjes (vegan)\nPandan fudge (bevat lactose)
URL:https://www.deoudrotterdammer.nl/event/stamboomonderzoek-en-geschiedenis-van-nederlands-indie/
LOCATION:Theater Zuidplein\, Gooilandsingel 95\, Rotterdam\, 3083 DP\, Nederland
ATTACH;FMTTYPE=image/png:https://www.deoudrotterdammer.nl/wp-content/uploads/2024/05/Screenshot-2024-05-13-at-10.30.16.png
GEO:51.8873675;4.4879322
X-APPLE-STRUCTURED-LOCATION;VALUE=URI;X-ADDRESS=Theater Zuidplein Gooilandsingel 95 Rotterdam 3083 DP Nederland;X-APPLE-RADIUS=500;X-TITLE=Gooilandsingel 95:geo:4.4879322,51.8873675
END:VEVENT
BEGIN:VEVENT
DTSTART;TZID=Europe/Amsterdam:20240515T103000
DTEND;TZID=Europe/Amsterdam:20240515T123000
DTSTAMP:20260421T092918
CREATED:20240513T082832Z
LAST-MODIFIED:20240513T082832Z
UID:10002863-1715769000-1715776200@www.deoudrotterdammer.nl
SUMMARY:Open podium 60+ in Theater Zuidplein
DESCRIPTION:Theaterwerkplaats Ouwe Rotten X verzorgt op woensdag 15 mei om 10.30 uur in Zaal-Z van Theater Zuidplein weer een open podium voor zestigplussers. Vertel een verhaal\, dans of zing. Elk talent is welkom en speelplezier staat voorop. Zie www.theaterzuidplein.nl De kassa is van dinsdag tot en met vrijdag van 14.00 tot 17.00 uur telefonisch bereikbaar. Tel. 010- 20309203.
URL:https://www.deoudrotterdammer.nl/event/open-podium-60-in-theater-zuidplein/
LOCATION:Theater Zuidplein\, Gooilandsingel 95\, Rotterdam\, 3083 DP\, Nederland
ATTACH;FMTTYPE=image/png:https://www.deoudrotterdammer.nl/wp-content/uploads/2024/05/Screenshot-2024-05-13-at-10.27.39.png
GEO:51.8873675;4.4879322
X-APPLE-STRUCTURED-LOCATION;VALUE=URI;X-ADDRESS=Theater Zuidplein Gooilandsingel 95 Rotterdam 3083 DP Nederland;X-APPLE-RADIUS=500;X-TITLE=Gooilandsingel 95:geo:4.4879322,51.8873675
END:VEVENT
BEGIN:VEVENT
DTSTART;TZID=Europe/Amsterdam:20240512T180000
DTEND;TZID=Europe/Amsterdam:20240512T200000
DTSTAMP:20260421T092918
CREATED:20240502T133457Z
LAST-MODIFIED:20240502T133756Z
UID:10002858-1715536800-1715544000@www.deoudrotterdammer.nl
SUMMARY:Chicken Haalhaal Volksoperahuis X Theater Zuidplein
DESCRIPTION:In ‘We deliver!’ keren we terug naar het wereldrestaurant van Eylem en Justiano. Door de oplopende prijzen besluiten ze zich ook maar aan te melden als pakketpunt. Een neef van Justiano is daar wel héél enthousiast over\, en waarom krijgt tante Frida zo veel vreemde pakketjes? Ondertussen vindt Eylems vader dat ze nu echt maar eens een man moet kiezen. En hoe vergaat het de Oekraïense Tatjana? \nIn ‘We deliver!’ keren we terug naar het wereldrestaurant van Eylem en Justiano. Door de oplopende prijzen besluiten ze zich ook maar aan te melden als pakketpunt. Een neef van Justiano is daar wel héél enthousiast over\, en waarom krijgt tante Frida zo veel vreemde pakketjes? Ondertussen vindt Eylems vader dat ze nu echt maar eens een man moet kiezen. En hoe vergaat het de Oekraïense Tatjana? \nChicken Haalhaal\, de vrolijkste buurtsoap die er is! Maak kennis met Justiano en Eylem\, de eigenaars van het buurtrestaurant\, vaste klant Frida\, student Neeltje\, kok Fred\, en vele andere personages. Een echte soap met humor\, romantiek\, cliffhangers\, muzikale gasten en bijdragen van lokale ondernemers! Vijf weken lang elke week een nieuwe aflevering die je op het puntje van je stoel laat zitten. Kennis van seizoen 1 en 2 is niet nodig. \nMet Aysegul Karaca\, Aldaïr Pieters\, Kees Scholten\, Sara van Nes\, Ezgi Köroğlu
URL:https://www.deoudrotterdammer.nl/event/chicken-haalhaal-volksoperahuis-x-theater-zuidplein/
LOCATION:Theater Zuidplein\, Gooilandsingel 95\, Rotterdam\, 3083 DP\, Nederland
ATTACH;FMTTYPE=image/jpeg:https://www.deoudrotterdammer.nl/wp-content/uploads/2024/05/zuidplein-website-16-9.jpg
ORGANIZER;CN="Theater Zuidplein":MAILTO:kassa@theaterzuidplein.nl
GEO:51.8873675;4.4879322
X-APPLE-STRUCTURED-LOCATION;VALUE=URI;X-ADDRESS=Theater Zuidplein Gooilandsingel 95 Rotterdam 3083 DP Nederland;X-APPLE-RADIUS=500;X-TITLE=Gooilandsingel 95:geo:4.4879322,51.8873675
END:VEVENT
BEGIN:VEVENT
DTSTART;TZID=Europe/Amsterdam:20240509T200000
DTEND;TZID=Europe/Amsterdam:20240509T220000
DTSTAMP:20260421T092918
CREATED:20240501T064636Z
LAST-MODIFIED:20240501T064636Z
UID:10002847-1715284800-1715292000@www.deoudrotterdammer.nl
SUMMARY:Fri Yeye
DESCRIPTION:Gebaseerd op Celestine Raalte’s Surinaamse klassieker\, onderzoekt de ervaringen van een oma\, moeder en dochter rondom Keti Koti. Is feestvieren een passende manier om de afschaffing van slavernij te herdenken? Fri Yeye onthult niet alleen het verleden maar belicht ook hedendaagse uitdagingen. \nErvaar en ontdek de vele lagen van vrijheid en geschiedenis tijdens deze betekenisvolle reis. Fri Yeye nodigt je uit de kracht van intuïtie te ervaren\, geworteld in dieper begrip van geschiedenis en emoties. \nFri Yeye wordt mogelijk gemaakt door:\nGemeente Rotterdam\, VSB Fonds\, Het Cultuur Fonds & Elise Mathilde Fonds
URL:https://www.deoudrotterdammer.nl/event/fri-yeye/
LOCATION:Theater Zuidplein\, Gooilandsingel 95\, Rotterdam\, 3083 DP\, Nederland
ATTACH;FMTTYPE=image/png:https://www.deoudrotterdammer.nl/wp-content/uploads/2024/05/Screenshot-2024-05-01-at-08.45.01.png
GEO:51.8873675;4.4879322
X-APPLE-STRUCTURED-LOCATION;VALUE=URI;X-ADDRESS=Theater Zuidplein Gooilandsingel 95 Rotterdam 3083 DP Nederland;X-APPLE-RADIUS=500;X-TITLE=Gooilandsingel 95:geo:4.4879322,51.8873675
END:VEVENT
BEGIN:VEVENT
DTSTART;TZID=Europe/Amsterdam:20240505T183000
DTEND;TZID=Europe/Amsterdam:20240505T213000
DTSTAMP:20260421T092918
CREATED:20240501T060909Z
LAST-MODIFIED:20240501T060909Z
UID:10002845-1714933800-1714944600@www.deoudrotterdammer.nl
SUMMARY:Sisters Kitchen | Vrijheidsmaaltijd
DESCRIPTION:Sluit je aan bij Sister’s Kitchen & Cultures voor een bijzondere kans om vrijheid te vieren en belangrijke gesprekken te voeren over de strijd naar onafhankelijkheid. Op 5 mei nodigen we je uit om deel te nemen aan onze Vrijheidsmaaltijd. \nEr komen inspirerende sprekers die hun persoonlijke verhalen delen over de zoektocht en strijd naar vrijheid in Palestina\, Maluku en West-Papua. Daarnaast zal er een optreden plaatsvinden dat de diversiteit en rijkdom van deze culturen viert. \nEn wat zou een maaltijd zijn zonder heerlijk eten? Geniet van een smakelijke maaltijd bereid door de getalenteerde chefs van Sister’s Kitchen & Cultures\, terwijl je in gesprek gaat met mensen die zich inzetten voor vrede en rechtvaardigheid. \nKom samen\, leer van elkaar en reflecteer op de betekenis van vrijheid\, terwijl je solidariteit toont met degenen die nog steeds vechten voor hun fundamentele rechten. Schrijf je nu in om deel te nemen aan deze bijzondere avond vol betekenis en verbinding! \nMis het niet. Reserveer vandaag nog je plek voor de Vrijheidsmaaltijd op 5 mei. We kijken ernaar uit om samen met jou dit belangrijke moment te delen en vieren.
URL:https://www.deoudrotterdammer.nl/event/sisters-kitchen-vrijheidsmaaltijd/
LOCATION:Theater Zuidplein\, Gooilandsingel 95\, Rotterdam\, 3083 DP\, Nederland
ATTACH;FMTTYPE=image/png:https://www.deoudrotterdammer.nl/wp-content/uploads/2024/05/Screenshot-2024-05-01-at-08.08.35.png
GEO:51.8873675;4.4879322
X-APPLE-STRUCTURED-LOCATION;VALUE=URI;X-ADDRESS=Theater Zuidplein Gooilandsingel 95 Rotterdam 3083 DP Nederland;X-APPLE-RADIUS=500;X-TITLE=Gooilandsingel 95:geo:4.4879322,51.8873675
END:VEVENT
BEGIN:VEVENT
DTSTART;TZID=Europe/Amsterdam:20240505T123000
DTEND;TZID=Europe/Amsterdam:20240505T170000
DTSTAMP:20260421T092918
CREATED:20240501T064418Z
LAST-MODIFIED:20240501T064418Z
UID:10002846-1714912200-1714928400@www.deoudrotterdammer.nl
SUMMARY:Mandem | Vrijheidsmaaltijden
DESCRIPTION:Op 5 mei kun je aansluiten bij een korte versie van de voorstelling ‘Mandem’ en deelnemen aan onze Vrijheidsmaaltijden. Onder begeleiding van onze host staan we stil bij het vieren van onze vrijheid. Want hoe belangrijk is het dat wij samen in vrijheid kunnen samenkomen\, erover kunnen praten en van elkaar kunnen leren! \n‘Mandem’ \nJongeren uit Rotterdam verdiepten zich onder leiding van theatermaker Dionne Zwennicker-Norton in de geschiedenis van Rotterdam Zuid ten tijde van de Tweede Wereldoorlog. Zij spraken met ouderen over hoe het was om jong te zijn in oorlogstijd. Samen met Dionne hebben de spelers deze gesprekken\, vol herinneringen en verhalen\, eigen gemaakt en vertolken dit naar een theatrale mix van Spoken word\, zang en dans. Deze informatieve voorstelling volgt het spoor van verzetshelden met wortels uit de Antillen en Zuid-Amerika. \nTheater Na de Dam JONG\nTijdens de vijftiende editie van Theater Na de Dam zetten bijna 400 jongeren in 46 projecten door heel Nederland zich in om de herdenking op 4 mei van extra betekenis te voorzien. Onder begeleiding van een professionele theatermaker gaan de jongeren in gesprek met (familieleden van) ooggetuigen\, over hun herinneringen aan de Tweede Wereldoorlog. Deze gesprekken\, samen met andere bronmaterialen over de Tweede Wereldoorlog\, vormen de basis van de jongerenvoorstellingen.
URL:https://www.deoudrotterdammer.nl/event/mandem-vrijheidsmaaltijden/
LOCATION:Theater Zuidplein\, Gooilandsingel 95\, Rotterdam\, 3083 DP\, Nederland
ATTACH;FMTTYPE=image/png:https://www.deoudrotterdammer.nl/wp-content/uploads/2024/05/Screenshot-2024-05-01-at-08.08.01.png
GEO:51.8873675;4.4879322
X-APPLE-STRUCTURED-LOCATION;VALUE=URI;X-ADDRESS=Theater Zuidplein Gooilandsingel 95 Rotterdam 3083 DP Nederland;X-APPLE-RADIUS=500;X-TITLE=Gooilandsingel 95:geo:4.4879322,51.8873675
END:VEVENT
END:VCALENDAR