BEGIN:VCALENDAR
VERSION:2.0
PRODID:-//de Oud Rotterdammer - ECPv6.15.20//NONSGML v1.0//EN
CALSCALE:GREGORIAN
METHOD:PUBLISH
X-ORIGINAL-URL:https://www.deoudrotterdammer.nl
X-WR-CALDESC:Evenementen voor de Oud Rotterdammer
REFRESH-INTERVAL;VALUE=DURATION:PT1H
X-Robots-Tag:noindex
X-PUBLISHED-TTL:PT1H
BEGIN:VTIMEZONE
TZID:Europe/Amsterdam
BEGIN:DAYLIGHT
TZOFFSETFROM:+0100
TZOFFSETTO:+0200
TZNAME:CEST
DTSTART:20230326T010000
END:DAYLIGHT
BEGIN:STANDARD
TZOFFSETFROM:+0200
TZOFFSETTO:+0100
TZNAME:CET
DTSTART:20231029T010000
END:STANDARD
BEGIN:DAYLIGHT
TZOFFSETFROM:+0100
TZOFFSETTO:+0200
TZNAME:CEST
DTSTART:20240331T010000
END:DAYLIGHT
BEGIN:STANDARD
TZOFFSETFROM:+0200
TZOFFSETTO:+0100
TZNAME:CET
DTSTART:20241027T010000
END:STANDARD
BEGIN:DAYLIGHT
TZOFFSETFROM:+0100
TZOFFSETTO:+0200
TZNAME:CEST
DTSTART:20250330T010000
END:DAYLIGHT
BEGIN:STANDARD
TZOFFSETFROM:+0200
TZOFFSETTO:+0100
TZNAME:CET
DTSTART:20251026T010000
END:STANDARD
END:VTIMEZONE
BEGIN:VEVENT
DTSTART;TZID=Europe/Amsterdam:20240704T140000
DTEND;TZID=Europe/Amsterdam:20240704T163000
DTSTAMP:20260423T193507
CREATED:20240612T143740Z
LAST-MODIFIED:20240612T143740Z
UID:10002899-1720101600-1720110600@www.deoudrotterdammer.nl
SUMMARY:Taxateur Arie Molendijk taxeert weer oude boeken
DESCRIPTION:Arie Molendijk komt binnenkort weer oude boeken taxeren in de regio Rotterdam. Elders op deze pagina vindt u daarvan data. De kosten voor een taxatie zijn vijf euro voor één tot ongeveer tien boeken of seriewerken. De taxatiekosten van grotere collecties/bibliotheken\, die meer tijd in beslag nemen\, variëren van 25 tot vijftig euro. U krijgt altijd alle aandacht en uitleg. Een taxatierapport is zo nodig ook mogelijk\, maar alleen voor waardevolle boeken met een waarde vanaf tweehonderd euro en tegen een van tevoren afgesproken tarief. \nDat gebeurt in Kralingen\, Capelle aan den IJssel en IJsselmonde. Vrijdag 28 juni in Restaurant De Tuin\, Plaszoom 354 in Rotterdam- Kralingen van 14.30 tot 17.00 uur. KRALINGEN ALLEEN OP AFSPRAAK tel 06 27177625 of amolendijkboeken@outlook. com Maandag 1 juli in Den Boekenkast\, Stadsplein 3 Capelle a/d IJssel van 15.00 tot 17.30 uur. Donderdag 4 juli in de Bibliotheek van Rotterdam-IJsselmonde\, Herenwaard 15 van 14.00 tot 16.30 uur. Voor meer Informatie en andere taxatiedagen: www. molendijkboeken.nl \nIn Kralingen en Capelle a/d IJssel komt Arie Molendijk met Willem Deurloo (85) uit Capelle a/d IJssel\, een groot kenner van de Tweede Wereldoorlog. Zijn museum liegt er niet om. Alles wat met de Tweede Wereldoorlog te maken heeft is welkom.
URL:https://www.deoudrotterdammer.nl/event/taxateur-arie-molendijk-taxeert-weer-oude-boeken/2024-07-04/
LOCATION:Zie de beschrijving
ATTACH;FMTTYPE=image/png:https://www.deoudrotterdammer.nl/wp-content/uploads/2024/06/Screenshot-2024-06-12-at-16.34.21.png
END:VEVENT
BEGIN:VEVENT
DTSTART;TZID=Europe/Amsterdam:20240701T150000
DTEND;TZID=Europe/Amsterdam:20240701T173000
DTSTAMP:20260423T193507
CREATED:20240612T143740Z
LAST-MODIFIED:20240612T143740Z
UID:10002898-1719846000-1719855000@www.deoudrotterdammer.nl
SUMMARY:Taxateur Arie Molendijk taxeert weer oude boeken
DESCRIPTION:Arie Molendijk komt binnenkort weer oude boeken taxeren in de regio Rotterdam. Elders op deze pagina vindt u daarvan data. De kosten voor een taxatie zijn vijf euro voor één tot ongeveer tien boeken of seriewerken. De taxatiekosten van grotere collecties/bibliotheken\, die meer tijd in beslag nemen\, variëren van 25 tot vijftig euro. U krijgt altijd alle aandacht en uitleg. Een taxatierapport is zo nodig ook mogelijk\, maar alleen voor waardevolle boeken met een waarde vanaf tweehonderd euro en tegen een van tevoren afgesproken tarief. \nDat gebeurt in Kralingen\, Capelle aan den IJssel en IJsselmonde. Vrijdag 28 juni in Restaurant De Tuin\, Plaszoom 354 in Rotterdam- Kralingen van 14.30 tot 17.00 uur. KRALINGEN ALLEEN OP AFSPRAAK tel 06 27177625 of amolendijkboeken@outlook. com Maandag 1 juli in Den Boekenkast\, Stadsplein 3 Capelle a/d IJssel van 15.00 tot 17.30 uur. Donderdag 4 juli in de Bibliotheek van Rotterdam-IJsselmonde\, Herenwaard 15 van 14.00 tot 16.30 uur. Voor meer Informatie en andere taxatiedagen: www. molendijkboeken.nl \nIn Kralingen en Capelle a/d IJssel komt Arie Molendijk met Willem Deurloo (85) uit Capelle a/d IJssel\, een groot kenner van de Tweede Wereldoorlog. Zijn museum liegt er niet om. Alles wat met de Tweede Wereldoorlog te maken heeft is welkom.
URL:https://www.deoudrotterdammer.nl/event/taxateur-arie-molendijk-taxeert-weer-oude-boeken/2024-07-01/
LOCATION:Zie de beschrijving
ATTACH;FMTTYPE=image/png:https://www.deoudrotterdammer.nl/wp-content/uploads/2024/06/Screenshot-2024-06-12-at-16.34.21.png
END:VEVENT
BEGIN:VEVENT
DTSTART;TZID=Europe/Amsterdam:20240628T143000
DTEND;TZID=Europe/Amsterdam:20240628T170000
DTSTAMP:20260423T193507
CREATED:20240612T143740Z
LAST-MODIFIED:20240612T143740Z
UID:10002897-1719585000-1719594000@www.deoudrotterdammer.nl
SUMMARY:Taxateur Arie Molendijk taxeert weer oude boeken
DESCRIPTION:Arie Molendijk komt binnenkort weer oude boeken taxeren in de regio Rotterdam. Elders op deze pagina vindt u daarvan data. De kosten voor een taxatie zijn vijf euro voor één tot ongeveer tien boeken of seriewerken. De taxatiekosten van grotere collecties/bibliotheken\, die meer tijd in beslag nemen\, variëren van 25 tot vijftig euro. U krijgt altijd alle aandacht en uitleg. Een taxatierapport is zo nodig ook mogelijk\, maar alleen voor waardevolle boeken met een waarde vanaf tweehonderd euro en tegen een van tevoren afgesproken tarief. \nDat gebeurt in Kralingen\, Capelle aan den IJssel en IJsselmonde. Vrijdag 28 juni in Restaurant De Tuin\, Plaszoom 354 in Rotterdam- Kralingen van 14.30 tot 17.00 uur. KRALINGEN ALLEEN OP AFSPRAAK tel 06 27177625 of amolendijkboeken@outlook. com Maandag 1 juli in Den Boekenkast\, Stadsplein 3 Capelle a/d IJssel van 15.00 tot 17.30 uur. Donderdag 4 juli in de Bibliotheek van Rotterdam-IJsselmonde\, Herenwaard 15 van 14.00 tot 16.30 uur. Voor meer Informatie en andere taxatiedagen: www. molendijkboeken.nl \nIn Kralingen en Capelle a/d IJssel komt Arie Molendijk met Willem Deurloo (85) uit Capelle a/d IJssel\, een groot kenner van de Tweede Wereldoorlog. Zijn museum liegt er niet om. Alles wat met de Tweede Wereldoorlog te maken heeft is welkom.
URL:https://www.deoudrotterdammer.nl/event/taxateur-arie-molendijk-taxeert-weer-oude-boeken/2024-06-28/
LOCATION:Zie de beschrijving
ATTACH;FMTTYPE=image/png:https://www.deoudrotterdammer.nl/wp-content/uploads/2024/06/Screenshot-2024-06-12-at-16.34.21.png
END:VEVENT
END:VCALENDAR