BEGIN:VCALENDAR
VERSION:2.0
PRODID:-//de Oud Rotterdammer - ECPv6.15.20//NONSGML v1.0//EN
CALSCALE:GREGORIAN
METHOD:PUBLISH
X-WR-CALNAME:de Oud Rotterdammer
X-ORIGINAL-URL:https://www.deoudrotterdammer.nl
X-WR-CALDESC:Evenementen voor de Oud Rotterdammer
REFRESH-INTERVAL;VALUE=DURATION:PT1H
X-Robots-Tag:noindex
X-PUBLISHED-TTL:PT1H
BEGIN:VTIMEZONE
TZID:Europe/Amsterdam
BEGIN:DAYLIGHT
TZOFFSETFROM:+0100
TZOFFSETTO:+0200
TZNAME:CEST
DTSTART:20230326T010000
END:DAYLIGHT
BEGIN:STANDARD
TZOFFSETFROM:+0200
TZOFFSETTO:+0100
TZNAME:CET
DTSTART:20231029T010000
END:STANDARD
BEGIN:DAYLIGHT
TZOFFSETFROM:+0100
TZOFFSETTO:+0200
TZNAME:CEST
DTSTART:20240331T010000
END:DAYLIGHT
BEGIN:STANDARD
TZOFFSETFROM:+0200
TZOFFSETTO:+0100
TZNAME:CET
DTSTART:20241027T010000
END:STANDARD
BEGIN:DAYLIGHT
TZOFFSETFROM:+0100
TZOFFSETTO:+0200
TZNAME:CEST
DTSTART:20250330T010000
END:DAYLIGHT
BEGIN:STANDARD
TZOFFSETFROM:+0200
TZOFFSETTO:+0100
TZNAME:CET
DTSTART:20251026T010000
END:STANDARD
END:VTIMEZONE
BEGIN:VEVENT
DTSTART;TZID=Europe/Amsterdam:20240227T130000
DTEND;TZID=Europe/Amsterdam:20240227T130000
DTSTAMP:20260423T013917
CREATED:20240225T115320Z
LAST-MODIFIED:20240225T141606Z
UID:10000001-1709038800-1709038800@www.deoudrotterdammer.nl
SUMMARY:Een ochtend vol mooie muziek en herinneringen in Baroeg
DESCRIPTION:In Baroeg is het dinsdag 27 februari genieten geblazen van mooie muziek en herinneringen. De stichting Fratsen organiseert er een leuke middag. Rocío Bolaños del Pozo (fl uit) speelt samen met Isabel (klarinet)\, die onlangs haar master behaalde aan de Codarts Hogeschool in Rotterdam. Ze won al diverse internationale prijzen met haar spel en volgde masterklassen van internationaal bekende fl uitisten. Fred Hoogsteder gaat samen met het publiek een half uurtje terug in de tijd met beelden op een ouderwetse zwart/wit televisie met muzikale fragmenten uit de 50/60er jaren. Dertig minuten vol herinneringen en mooie anekdotes. Fratsen is een organisatie die doorlopend maatschappelijke muziekprojecten organiseert in wijken in Rotterdam. Met het project SJEU levert Fratsen een bijdrage aan het stimuleren van sociaal-maatschappelijke participatie in Rotterdam. In samenwerking met Stichting Tijd Van Toen en artiesten van Codarts Rotterdam verzorgen zij de muzikale programmering.
URL:https://www.deoudrotterdammer.nl/event/een-ochtend-vol-mooie-muziek-en-herinneringen-in-baroeg/
LOCATION:Baroeg\, Spinozaweg 300\, Rotterdam\, Zuid Holland\, 3076 ET\, Nederland
ATTACH;FMTTYPE=image/jpeg:https://www.deoudrotterdammer.nl/wp-content/uploads/2024/02/Picture-of-Baroeg.jpg
GEO:51.876737;4.5191155
X-APPLE-STRUCTURED-LOCATION;VALUE=URI;X-ADDRESS=Baroeg Spinozaweg 300 Rotterdam Zuid Holland 3076 ET Nederland;X-APPLE-RADIUS=500;X-TITLE=Spinozaweg 300:geo:4.5191155,51.876737
END:VEVENT
END:VCALENDAR