BEGIN:VCALENDAR
VERSION:2.0
PRODID:-//de Oud Rotterdammer - ECPv6.15.20//NONSGML v1.0//EN
CALSCALE:GREGORIAN
METHOD:PUBLISH
X-WR-CALNAME:de Oud Rotterdammer
X-ORIGINAL-URL:https://www.deoudrotterdammer.nl
X-WR-CALDESC:Evenementen voor de Oud Rotterdammer
REFRESH-INTERVAL;VALUE=DURATION:PT1H
X-Robots-Tag:noindex
X-PUBLISHED-TTL:PT1H
BEGIN:VTIMEZONE
TZID:Europe/Amsterdam
BEGIN:DAYLIGHT
TZOFFSETFROM:+0100
TZOFFSETTO:+0200
TZNAME:CEST
DTSTART:20230326T010000
END:DAYLIGHT
BEGIN:STANDARD
TZOFFSETFROM:+0200
TZOFFSETTO:+0100
TZNAME:CET
DTSTART:20231029T010000
END:STANDARD
BEGIN:DAYLIGHT
TZOFFSETFROM:+0100
TZOFFSETTO:+0200
TZNAME:CEST
DTSTART:20240331T010000
END:DAYLIGHT
BEGIN:STANDARD
TZOFFSETFROM:+0200
TZOFFSETTO:+0100
TZNAME:CET
DTSTART:20241027T010000
END:STANDARD
BEGIN:DAYLIGHT
TZOFFSETFROM:+0100
TZOFFSETTO:+0200
TZNAME:CEST
DTSTART:20250330T010000
END:DAYLIGHT
BEGIN:STANDARD
TZOFFSETFROM:+0200
TZOFFSETTO:+0100
TZNAME:CET
DTSTART:20251026T010000
END:STANDARD
BEGIN:DAYLIGHT
TZOFFSETFROM:+0100
TZOFFSETTO:+0200
TZNAME:CEST
DTSTART:20260329T010000
END:DAYLIGHT
BEGIN:STANDARD
TZOFFSETFROM:+0200
TZOFFSETTO:+0100
TZNAME:CET
DTSTART:20261025T010000
END:STANDARD
END:VTIMEZONE
BEGIN:VEVENT
DTSTART;TZID=Europe/Amsterdam:20250912T200000
DTEND;TZID=Europe/Amsterdam:20250912T220000
DTSTAMP:20260421T003131
CREATED:20250902T080609Z
LAST-MODIFIED:20250902T080609Z
UID:10008075-1757707200-1757714400@www.deoudrotterdammer.nl
SUMMARY:Feestelijk slotconcert  Maarschalkerweerorgel
DESCRIPTION:In een zeer afwisselend en feestelijk slotconcert op vrijdag 12 september komt de grote\, unieke variatie aan betoverende klankmogelijkheden van het 125 jaar oude Maarschalkerweerorgel optimaal tot zijn recht. \nVaste bespeler van het orgel\, Eric Koevoets neemt je mee in een virtuoos programma van Bach tot Dupré. \nLaat je verrassen (of wist je het al?)\, door de ongelooflijke grote klankrijkdom van dit schitterende orgel. \nNiemand kan dit beter laten horen dan Eric Koevoets\, die all ins-en-outs van dit instrument kent. Mis dit concert dus niet! \nHet concert in de sfeervolle Lambertus begint om 20:00 uur. \nDe toegang is gratis met een collecte na afloop\, contant of via QR-code (richtbedrag € 10\,– p.p.).
URL:https://www.deoudrotterdammer.nl/event/feestelijk-slotconcert-maarschalkerweerorgel/
LOCATION:Sint Lambertuskerk\, Oostzeedijk Beneden 3\, Rotterdam\, Zuid-Holland\, 3062 VJ\, Nederland
ATTACH;FMTTYPE=image/jpeg:https://www.deoudrotterdammer.nl/wp-content/uploads/2025/09/pipes-and-possibilities-e1756800343119.jpg
GEO:51.9200966;4.5135846
X-APPLE-STRUCTURED-LOCATION;VALUE=URI;X-ADDRESS=Sint Lambertuskerk Oostzeedijk Beneden 3 Rotterdam Zuid-Holland 3062 VJ Nederland;X-APPLE-RADIUS=500;X-TITLE=Oostzeedijk Beneden 3:geo:4.5135846,51.9200966
END:VEVENT
BEGIN:VEVENT
DTSTART;TZID=Europe/Amsterdam:20250606T200000
DTEND;TZID=Europe/Amsterdam:20250606T220000
DTSTAMP:20260421T003131
CREATED:20250520T064409Z
LAST-MODIFIED:20250520T064525Z
UID:10004835-1749240000-1749247200@www.deoudrotterdammer.nl
SUMMARY:Vuur en Adem – Wouter van der Wilt -  Orgelmuziek
DESCRIPTION:Op vrijdagavond 6 juni om 20:00 voert organist Wouter van der Wilt in de Hoflaankerk een programma uit onder de titel Vuur & Adem – orgelmuziek rond Pinksteren. Hij speelt o.a. werk van Bach\, Mendelssohn en Reger. Hij speelt o.a. werk van Bach\, Mendelssohn en Reger. Van de transparante\, lichtvoetige barok van Bach tot de  expressieve romantiek van Mendelssohn en Reger\, het programma is opgebouwd als muzikale reis door verschillende eeuwen. Hoogtepunt van het programma is de monumentale Choral fantasie über Hallelujah! Gott zu Loben van Max Reger. \nOok klinkt een meer eigentijdse compositie over Veni Creator\, van van der Wilt’s leermeester Bram Beekman én een improvisatie over een pinksterlied. De indrukwekkende akoestiek van de Hoflaankerk en de karakteristieke klank van het van Vulpen orgel staan garant voor een intense luisterervaring. Je kunt de organist zien spelen\, via de beamer en twee schermen. De entree is gratis\, er is een (digitale) collecte na afloop. Voor en na het concert staat de koffie voor je klaar\, van harte welkom! \nZie ook www.orgelconcertenhoflaankerk.nl\, www.venster-op-muziek-lambertus.com of www.woutervanderwilt.nl \nHoflaankerk\, Oude Dijk 2  (hoek Hoflaan)\, Rotterdam-Kralingen. Toegang vrij\, collecte na afloop (richtbedrag € 10\,– p.p.).
URL:https://www.deoudrotterdammer.nl/event/vuur-en-adem-wouter-van-der-wilt-orgelmuziek/
LOCATION:Hoflaankerk
ATTACH;FMTTYPE=image/png:https://www.deoudrotterdammer.nl/wp-content/uploads/2025/05/6-juni-2025-Social-media-e1747723417631.png
END:VEVENT
BEGIN:VEVENT
DTSTART;TZID=Europe/Amsterdam:20250518T151500
DTEND;TZID=Europe/Amsterdam:20250518T171500
DTSTAMP:20260421T003131
CREATED:20250430T141138Z
LAST-MODIFIED:20250430T141138Z
UID:10004827-1747581300-1747588500@www.deoudrotterdammer.nl
SUMMARY:‘Cloudes like cotton’  door Capella Sine Nomine
DESCRIPTION:‘Cloudes like cotton’  door Capella Sine Nomine o.l.v. André Vis met hemelse muziek van vijf moderne componisten.  \n Toegang vrij\, collecte na afloop (richtbedrag € 10\,– p.p.). \nCapella Sine Nomine\, onder leiding van André Vis\, zingt op zondag 18 mei in de Sint Lambertuskerk in Kralingen een nieuw programma vol verstilling\, intensiteit en af en toe een muzikale uitbarsting: “Clouds Like Cotton”. \nOp het programma staan prachtige à capella werken van de Zwitser Antognini\, de Japanner Takemitsu\, de Let Vasks\, de Pool Lukaszewski en de Britse Collier. Je hoort onder andere het uitbundige Jubilate Deo\, de meditatieve Silent Songs\, het transparante Small Sky en als afsluiter World o World – een hedendaags werk dat je bijblijft. \nEen veelzijdig programma dus\, met klanken die zacht neerdalen als katoen – maar ook stevig kunnen uithalen als het moet. \nOostzeedijk Beneden 1-3 (hoek Hoflaan)\, Rotterdam-Kralingen.
URL:https://www.deoudrotterdammer.nl/event/cloudes-like-cotton-door-capella-sine-nomine/
LOCATION:Sint Lambertuskerk\, Oostzeedijk Beneden 3\, Rotterdam\, Zuid-Holland\, 3062 VJ\, Nederland
ATTACH;FMTTYPE=image/jpeg:https://www.deoudrotterdammer.nl/wp-content/uploads/2025/04/FB_Banner_CSN_Clouds-like-cotton-e1746022256260.jpg
GEO:51.9200966;4.5135846
X-APPLE-STRUCTURED-LOCATION;VALUE=URI;X-ADDRESS=Sint Lambertuskerk Oostzeedijk Beneden 3 Rotterdam Zuid-Holland 3062 VJ Nederland;X-APPLE-RADIUS=500;X-TITLE=Oostzeedijk Beneden 3:geo:4.5135846,51.9200966
END:VEVENT
BEGIN:VEVENT
DTSTART;TZID=Europe/Amsterdam:20250405T160000
DTEND;TZID=Europe/Amsterdam:20250405T170000
DTSTAMP:20260421T003131
CREATED:20250325T073012Z
LAST-MODIFIED:20250325T073111Z
UID:10004451-1743868800-1743872400@www.deoudrotterdammer.nl
SUMMARY:Orgelvesper St.-Lambertuskerk
DESCRIPTION:Orgelvesper – Vier de namiddag met gebed\, lezingen en muziek voor de lijdenstijd\, gespeeld door organist Eric Koevoets in de mystieke Sint Lambertuskerk. Oostzeedijk Beneden 1-3 (hoek Hoflaan)\, Rotterdam-Kralingen. Toegang vrij\, collecte na afloop. \nBij de Orgelvesper in de mystieke Sint Lambertuskerk kan de bezoeker tot rust komen bij gebeden\, lezingen én orgelmuziek. Organist Eric Koevoets laat ingetogen werken horen\, die passen bij de lijdenstijd. Organist Eric Koevoets is de vaste organist van de St. Lambertuskerk. Hij heeft voor deze Orgelvesper werken uitgekozen\, die vaak speciaal gecomponeerd zijn voor de lijdenstijd\, zoals Herzlich tut mich verlangen\, bij velen bekend van ‘O Haupt\, voll Blut und Wunden’ en Meine Seele erhebt den Herren. \nBeide werken zijn van Johann Sebastian Bach. \nDe viering opent Koevoets met Praeludium et Fuga in a van deze zelfde beroemde componist. \nOok zijn er werken te horen van Flor Peeters\, Olivier Messiaen en Jehan Alain. De viering op zaterdag 5 april begint om 16:00 uur in de St.-Lambertuskerk\, Oostzeedijk Beneden 1-3 te Rotterdam-Kralingen. De deuren openen een half uur voor aanvangstijd. Zie verder: venster-op-muziek-lambertus.com \n  \nJUBILEUMSERIE 125 JAAR MAARDSCHALKERWEERD-ORGEL 1900-2025 \nSINT LAMBERTUSKERK ROTTERDAM \nZATERDAG 5 APRIL 2025\, 16.00 UUR \nORGELVESPER ERIC KOEVOETS \nBach\, Peeters\, Messiaen\, Alain \nDINSDAG 27 MEI 2025\, 20.00 UUR \nDUO-RECITAL HAYO BOEREMA EN ERIC KOEVOETS \nImprovisaties en o.a. werk van Franck \nVRIJDAG 13 JUNI 2025\, 20.00 UUR  ‘THE SOUND OF THE CITIES’ \nEen totaalprogramma rondom het thema ‘De stad’ met theatrale elementen door het jonge\, uit internationale zangers bestaande ensemble FONOS in samenwerking met Lambertusorganist ERIC KOEVOETS \nBekijk de rest van het programma in onze agenda
URL:https://www.deoudrotterdammer.nl/event/orgelvesper-st-lambertuskerk/
LOCATION:Sint Lambertuskerk\, Oostzeedijk Beneden 3\, Rotterdam\, Zuid-Holland\, 3062 VJ\, Nederland
ATTACH;FMTTYPE=image/jpeg:https://www.deoudrotterdammer.nl/wp-content/uploads/2025/03/2025-04-05-poster-scaled-e1742887787251.jpg
GEO:51.9200966;4.5135846
X-APPLE-STRUCTURED-LOCATION;VALUE=URI;X-ADDRESS=Sint Lambertuskerk Oostzeedijk Beneden 3 Rotterdam Zuid-Holland 3062 VJ Nederland;X-APPLE-RADIUS=500;X-TITLE=Oostzeedijk Beneden 3:geo:4.5135846,51.9200966
END:VEVENT
BEGIN:VEVENT
DTSTART;TZID=Europe/Amsterdam:20241214T163000
DTEND;TZID=Europe/Amsterdam:20241214T183000
DTSTAMP:20260421T003131
CREATED:20241126T093812Z
LAST-MODIFIED:20241126T093812Z
UID:10004358-1734193800-1734201000@www.deoudrotterdammer.nl
SUMMARY:Gregoriaanse vesper
DESCRIPTION:Vier het begin van de Advent in de namiddag van zaterdag 14 december met een Gregoriaanse vesper. Gedurende ruim een half uur waan je jezelf even in de verstilde rust van een klooster door de gezangen van de Schola St. Gregorius. Dit is de mooi klinkende groep mannen\, die wekelijks tijdens de hoogmis in de St. Lambertuskerk deze middeleeuwse muziek ten gehore brengt samen met en onder leiding van Eric Koevoets. Tijdens de Gregoriaanse Vesper doen zij dit vanaf het priesterkoor. Het begint om 16:30 uur\, de toegang is gratis met een collecte na afloop. \n\nWaar en wanneer?\nDe viering op zaterdag 14 december begint om 16:30 uur in de St.-Lambertuskerk\, Oostzeedijk Beneden 1-3 te Rotterdam-Kralingen. De deuren openen een half uur voor aanvangstijd. In de omgeving kun je betaald parkeren. Maar de kerk is het beste lopend\, fietsend of met O.V.  bereikbaar. Openbaar vervoer: tram 21 en 24 (halte Avenue Concordia) – metro (halte Voorschoterlaan). Zie ook venster-op-muziek-lambertus.com.
URL:https://www.deoudrotterdammer.nl/event/gregoriaanse-vesper/
LOCATION:Sint Lambertuskerk\, Oostzeedijk Beneden 3\, Rotterdam\, Zuid-Holland\, 3062 VJ\, Nederland
ATTACH;FMTTYPE=image/jpeg:https://www.deoudrotterdammer.nl/wp-content/uploads/2024/11/20230128_165224-scaled.jpg
GEO:51.9200966;4.5135846
X-APPLE-STRUCTURED-LOCATION;VALUE=URI;X-ADDRESS=Sint Lambertuskerk Oostzeedijk Beneden 3 Rotterdam Zuid-Holland 3062 VJ Nederland;X-APPLE-RADIUS=500;X-TITLE=Oostzeedijk Beneden 3:geo:4.5135846,51.9200966
END:VEVENT
BEGIN:VEVENT
DTSTART;TZID=Europe/Amsterdam:20240914T140000
DTEND;TZID=Europe/Amsterdam:20240914T160000
DTSTAMP:20260421T003131
CREATED:20240904T071440Z
LAST-MODIFIED:20240904T071440Z
UID:10002907-1726322400-1726329600@www.deoudrotterdammer.nl
SUMMARY:
DESCRIPTION:Zaterdag 14 september\, 14.00 – 16 uur  Ga meer op een muzikale ontdekkingstocht in de prachtige Sint Lambertuskerk en geniet van oorstrelende muziek uit Parijs en van Bach. Met kinderworkshop ‘Bouw het Doe-Orgel’ Oostzeedijk Beneden 1-3 (hoek Hoflaan)\, Rotterdam-Kralingen.  \nOrgelmuziek is zo wonderschoon\, niet alleen voor kenners\, en zeker als dit wordt gespeeld op het poëtische Maarschalkerweerdorgel van de mystieke Sint Lambertuskerk! Ervaar dit en ga op 14 september tijdens Open Monumentendag Rotterdam mee op reis in de wereld van de Franse\, typisch Parijse\, muziek én in de barok van Bach. Kinderen vanaf 8 jaar kunnen intussen meedoen met de spannende workshop ‘Bouw het Doe-Orgel’. Maximaal kunnen er 12 kinderen meedoen\, dus vooraf aanmelden via de website van Venster op Muziek in de Lambertus is een goed idee!\nHet programma start om 14:00 uur met een presentatie \, waarbij organist Eric Koevoets met korte improvisaties illustreert hoe het orgel poëtisch\, dan weer mystiek\, dan weer magistraal kan klinken. Om 14:30 uur geeft hij een afwisselend concert\, onder de naam ‘Bach à Paris’\, waarin deze klanken terug te horen zijn. Om 15:15 uur is er tenslotte de mogelijkheid tot  bezichtiging van het orgel boven op de koorzolder.
URL:https://www.deoudrotterdammer.nl/event/6811/
LOCATION:Sint Lambertuskerk\, Oostzeedijk Beneden 3\, Rotterdam\, Zuid-Holland\, 3062 VJ\, Nederland
ATTACH;FMTTYPE=image/jpeg:https://www.deoudrotterdammer.nl/wp-content/uploads/2024/09/orgel.jpg
GEO:51.9200966;4.5135846
X-APPLE-STRUCTURED-LOCATION;VALUE=URI;X-ADDRESS=Sint Lambertuskerk Oostzeedijk Beneden 3 Rotterdam Zuid-Holland 3062 VJ Nederland;X-APPLE-RADIUS=500;X-TITLE=Oostzeedijk Beneden 3:geo:4.5135846,51.9200966
END:VEVENT
END:VCALENDAR